BEGIN:VCALENDAR
VERSION:2.0
PRODID:-//waldau-macht-zukunft.de - ECPv6.15.20//NONSGML v1.0//EN
CALSCALE:GREGORIAN
METHOD:PUBLISH
X-WR-CALNAME:waldau-macht-zukunft.de
X-ORIGINAL-URL:https://waldau-macht-zukunft.de
X-WR-CALDESC:Veranstaltungen für waldau-macht-zukunft.de
REFRESH-INTERVAL;VALUE=DURATION:PT1H
X-Robots-Tag:noindex
X-PUBLISHED-TTL:PT1H
BEGIN:VTIMEZONE
TZID:Europe/Berlin
BEGIN:DAYLIGHT
TZOFFSETFROM:+0100
TZOFFSETTO:+0200
TZNAME:CEST
DTSTART:20250330T010000
END:DAYLIGHT
BEGIN:STANDARD
TZOFFSETFROM:+0200
TZOFFSETTO:+0100
TZNAME:CET
DTSTART:20251026T010000
END:STANDARD
BEGIN:DAYLIGHT
TZOFFSETFROM:+0100
TZOFFSETTO:+0200
TZNAME:CEST
DTSTART:20260329T010000
END:DAYLIGHT
BEGIN:STANDARD
TZOFFSETFROM:+0200
TZOFFSETTO:+0100
TZNAME:CET
DTSTART:20261025T010000
END:STANDARD
BEGIN:DAYLIGHT
TZOFFSETFROM:+0100
TZOFFSETTO:+0200
TZNAME:CEST
DTSTART:20270328T010000
END:DAYLIGHT
BEGIN:STANDARD
TZOFFSETFROM:+0200
TZOFFSETTO:+0100
TZNAME:CET
DTSTART:20271031T010000
END:STANDARD
END:VTIMEZONE
BEGIN:VEVENT
DTSTART;TZID=Europe/Berlin:20260423T160000
DTEND;TZID=Europe/Berlin:20260423T180000
DTSTAMP:20260419T162059
CREATED:20260414T144851Z
LAST-MODIFIED:20260414T144851Z
UID:10003319-1776960000-1776967200@waldau-macht-zukunft.de
SUMMARY:Feierabend Gärtnern
DESCRIPTION:Jeden Donnerstag von 16 bis 18 Uhr (und nach Ansage auch früher) treffen wir uns zum Feierabend Gärtnern im Urbanen Waldgarten am Wahlebach. Feste Schuhe und dem Wetter angemessene Kleidung und wer eigene Handschuhe benutzen möchte auch diese Mitbringen. Wir freuen uns über Jede und Jeden der mit anpacken möchte. \n 
URL:https://waldau-macht-zukunft.de/event/feierabend-gaertnern-4-2/2026-04-23/
LOCATION:Umwelt- und Gartenamt\, Bosestraße 15\, Kassel\, Hessen\, 34121\, Germany
CATEGORIES:Bildungsangebote,Bürgerinitiativen,Freizeit,Grünes Waldau,Lernen,Nachhaltigkeit,Uni-Projekte,Waldgarten
ATTACH;FMTTYPE=image/webp:https://waldau-macht-zukunft.de/wp-content/uploads/2026/04/Feierabend-Gaertnern.webp
END:VEVENT
BEGIN:VEVENT
DTSTART;TZID=Europe/Berlin:20260430T160000
DTEND;TZID=Europe/Berlin:20260430T180000
DTSTAMP:20260419T162059
CREATED:20260414T144851Z
LAST-MODIFIED:20260414T144851Z
UID:10003320-1777564800-1777572000@waldau-macht-zukunft.de
SUMMARY:Feierabend Gärtnern
DESCRIPTION:Jeden Donnerstag von 16 bis 18 Uhr (und nach Ansage auch früher) treffen wir uns zum Feierabend Gärtnern im Urbanen Waldgarten am Wahlebach. Feste Schuhe und dem Wetter angemessene Kleidung und wer eigene Handschuhe benutzen möchte auch diese Mitbringen. Wir freuen uns über Jede und Jeden der mit anpacken möchte. \n 
URL:https://waldau-macht-zukunft.de/event/feierabend-gaertnern-4-2/2026-04-30/
LOCATION:Umwelt- und Gartenamt\, Bosestraße 15\, Kassel\, Hessen\, 34121\, Germany
CATEGORIES:Bildungsangebote,Bürgerinitiativen,Freizeit,Grünes Waldau,Lernen,Nachhaltigkeit,Uni-Projekte,Waldgarten
ATTACH;FMTTYPE=image/webp:https://waldau-macht-zukunft.de/wp-content/uploads/2026/04/Feierabend-Gaertnern.webp
END:VEVENT
BEGIN:VEVENT
DTSTART;TZID=Europe/Berlin:20260507T160000
DTEND;TZID=Europe/Berlin:20260507T180000
DTSTAMP:20260419T162059
CREATED:20260412T140235Z
LAST-MODIFIED:20260414T154134Z
UID:10003584-1778169600-1778176800@waldau-macht-zukunft.de
SUMMARY:Wildkräuter und Anwendung
DESCRIPTION:Wildkräuter sammeln mit Astrid Brede \nTreffpunkt am Container auf der Waldgartenfläche  am Wahlebach \n16  bis 19 Uhr \nAnmeldung unter: emil.wiedmann@kassel.de
URL:https://waldau-macht-zukunft.de/event/wildkraeuter-und-anwendung/
LOCATION:Urbane Waldgarten\, Urbaner Waldgarten Wahlebach\, Kassel\, 34123
CATEGORIES:Bildungsangebote,Freizeit,Kurse,Nachhaltigkeit,Treffen,Waldgarten,Workshops
ATTACH;FMTTYPE=image/webp:https://waldau-macht-zukunft.de/wp-content/uploads/2026/04/Staudenvermehrung.webp
END:VEVENT
BEGIN:VEVENT
DTSTART;TZID=Europe/Berlin:20260523T080000
DTEND;TZID=Europe/Berlin:20260523T120000
DTSTAMP:20260419T162059
CREATED:20260412T142143Z
LAST-MODIFIED:20260414T155259Z
UID:10003585-1779523200-1779537600@waldau-macht-zukunft.de
SUMMARY:Sensen lernen!
DESCRIPTION:Kurs im Waldgarten Wahlebach: Sensen lernen und anwenden mit Marlon Middeke \nTreffpunkt am Container auf der Waldgartenfläche um 8:oo bis 12:00 Uhr \nAnmeldung unter: emil.wiedman@kassel.de
URL:https://waldau-macht-zukunft.de/event/sensen-lernen/
LOCATION:Urbane Waldgarten\, Urbaner Waldgarten Wahlebach\, Kassel\, 34123
CATEGORIES:Bildungsangebote,Freizeit,Grünes Waldau,Kurse,Lernen,Nachhaltigkeit,Waldgarten,Workshops
ATTACH;FMTTYPE=image/png:https://waldau-macht-zukunft.de/wp-content/uploads/2026/04/Sensen-Lernen.png
END:VEVENT
BEGIN:VEVENT
DTSTART;TZID=Europe/Berlin:20260523T100000
DTEND;TZID=Europe/Berlin:20260523T150000
DTSTAMP:20260419T162059
CREATED:20260419T082349Z
LAST-MODIFIED:20260419T082349Z
UID:10003603-1779530400-1779548400@waldau-macht-zukunft.de
SUMMARY:Urbane Waldgarten
DESCRIPTION:Aktion: Gemeinschaftlicher Pflegeeinsatz                                                                                                                                     mit Mittagsverpflegung                                                                                                                                                                   am :23.05.26                                                                                                                                                                                   von: 10:00Uhr bis 15:00 Uhr                                                                                                 
URL:https://waldau-macht-zukunft.de/event/urbane-waldgarten-2/
LOCATION:Urbane Waldgarten\, Urbaner Waldgarten Wahlebach\, Kassel\, 34123
CATEGORIES:Bildungsangebote,Bürgerinitiativen,Freizeit,Grünes Waldau,Lernen,Nachhaltigkeit,Treffen,Waldgarten
ATTACH;FMTTYPE=image/jpeg:https://waldau-macht-zukunft.de/wp-content/uploads/2026/03/signal-2025-07-10-221933.jpeg
END:VEVENT
END:VCALENDAR