BEGIN:VCALENDAR
VERSION:2.0
PRODID:-//waldau-macht-zukunft.de - ECPv6.15.20//NONSGML v1.0//EN
CALSCALE:GREGORIAN
METHOD:PUBLISH
X-ORIGINAL-URL:https://waldau-macht-zukunft.de
X-WR-CALDESC:Veranstaltungen für waldau-macht-zukunft.de
REFRESH-INTERVAL;VALUE=DURATION:PT1H
X-Robots-Tag:noindex
X-PUBLISHED-TTL:PT1H
BEGIN:VTIMEZONE
TZID:Europe/Berlin
BEGIN:DAYLIGHT
TZOFFSETFROM:+0100
TZOFFSETTO:+0200
TZNAME:CEST
DTSTART:20240331T010000
END:DAYLIGHT
BEGIN:STANDARD
TZOFFSETFROM:+0200
TZOFFSETTO:+0100
TZNAME:CET
DTSTART:20241027T010000
END:STANDARD
BEGIN:DAYLIGHT
TZOFFSETFROM:+0100
TZOFFSETTO:+0200
TZNAME:CEST
DTSTART:20250330T010000
END:DAYLIGHT
BEGIN:STANDARD
TZOFFSETFROM:+0200
TZOFFSETTO:+0100
TZNAME:CET
DTSTART:20251026T010000
END:STANDARD
BEGIN:DAYLIGHT
TZOFFSETFROM:+0100
TZOFFSETTO:+0200
TZNAME:CEST
DTSTART:20260329T010000
END:DAYLIGHT
BEGIN:STANDARD
TZOFFSETFROM:+0200
TZOFFSETTO:+0100
TZNAME:CET
DTSTART:20261025T010000
END:STANDARD
END:VTIMEZONE
BEGIN:VEVENT
DTSTART;TZID=Europe/Berlin:20251118T183000
DTEND;TZID=Europe/Berlin:20251118T200000
DTSTAMP:20260419T172134
CREATED:20251118T142526Z
LAST-MODIFIED:20251118T142715Z
UID:10000010-1763490600-1763496000@waldau-macht-zukunft.de
SUMMARY:TJ3: Impressionen: Strukturwandel gestalten – was können Kassel und Nordhessen lernen?
DESCRIPTION:Strukturen im Wandel: wie kann nachhaltiger Wandel in Regionen gelingen? An diesem Abend geht es um konkrete Erfahrungen aus dem Rheinischen Revier und der Region Lausitz\, die bereits tiefgreifende Veränderungen durchlaufen haben. In offenen Gesprächsrunden wollen wir gemeinsam mit Vertreter:innen dieser Regionen über Chancen\, Herausforderungen und nachhaltige Wege im Strukturwandel sprechen. Eine Einladung zum Zuhören\, Austauschen und Mitdenken. \nThemenabend: Bioökonomie und Innovationen im regionalen Maßstab: Erfahrungen aus dem Rheinischen Revier und der Lausitz. \nGäste: \n\nDr. Christian Klar\, Leitung Koordinierungsstelle BioökonomieREVIER\, Forschungszentrum Jülich GmbH\nJanine Schollbach. Referentin Innovationskorridor Berlin-Lausitz\, Wirtschaftsregion Lausitz\n\nUnterstützt durch TRegKs – Transformationsnetzwerk Region Kassel \nDie Veranstaltung findet statt im Rahmen des SDG+ Themenjahr 3 – Experimentale-Programms zu „Transformation in Produktion\, Arbeit und Wertschöpfung“. Durch die Experimentale zum TJ3 soll eine Spannbreite von dezentralen\, sozial-inklusiven und alternativen Ansätzen für eine nachhaltige und zirkuläre Wirtschaft für größere Teile der Bevölkerung Nordhessens beleuchtet\, erfahrbar und zugänglich gemacht werden.
URL:https://waldau-macht-zukunft.de/event/tj3-impressionen-strukturwandel-gestalten-was-koennen-kassel-und-nordhessen-lernen/
LOCATION:UNI:Lokal\, Wilhelmsstraße 21\, Kassel\, 34117
CATEGORIES:Nachhaltigkeit,sdg+ lab
ATTACH;FMTTYPE=image/jpeg:https://waldau-macht-zukunft.de/wp-content/uploads/2025/11/SDG-Lab.jpg
ORGANIZER;CN="SDG+ Lab Experimentale TJ3":MAILTO:sdgpluslab@uni-kassel.de
END:VEVENT
END:VCALENDAR