BEGIN:VCALENDAR
VERSION:2.0
PRODID:-//waldau-macht-zukunft.de - ECPv6.15.20//NONSGML v1.0//EN
CALSCALE:GREGORIAN
METHOD:PUBLISH
X-ORIGINAL-URL:https://waldau-macht-zukunft.de
X-WR-CALDESC:Veranstaltungen für waldau-macht-zukunft.de
REFRESH-INTERVAL;VALUE=DURATION:PT1H
X-Robots-Tag:noindex
X-PUBLISHED-TTL:PT1H
BEGIN:VTIMEZONE
TZID:Europe/Berlin
BEGIN:DAYLIGHT
TZOFFSETFROM:+0100
TZOFFSETTO:+0200
TZNAME:CEST
DTSTART:20250330T010000
END:DAYLIGHT
BEGIN:STANDARD
TZOFFSETFROM:+0200
TZOFFSETTO:+0100
TZNAME:CET
DTSTART:20251026T010000
END:STANDARD
BEGIN:DAYLIGHT
TZOFFSETFROM:+0100
TZOFFSETTO:+0200
TZNAME:CEST
DTSTART:20260329T010000
END:DAYLIGHT
BEGIN:STANDARD
TZOFFSETFROM:+0200
TZOFFSETTO:+0100
TZNAME:CET
DTSTART:20261025T010000
END:STANDARD
BEGIN:DAYLIGHT
TZOFFSETFROM:+0100
TZOFFSETTO:+0200
TZNAME:CEST
DTSTART:20270328T010000
END:DAYLIGHT
BEGIN:STANDARD
TZOFFSETFROM:+0200
TZOFFSETTO:+0100
TZNAME:CET
DTSTART:20271031T010000
END:STANDARD
BEGIN:DAYLIGHT
TZOFFSETFROM:+0100
TZOFFSETTO:+0200
TZNAME:CEST
DTSTART:20280326T010000
END:DAYLIGHT
BEGIN:STANDARD
TZOFFSETFROM:+0200
TZOFFSETTO:+0100
TZNAME:CET
DTSTART:20281029T010000
END:STANDARD
END:VTIMEZONE
BEGIN:VEVENT
DTSTART;TZID=Europe/Berlin:20260622T100000
DTEND;TZID=Europe/Berlin:20260622T110000
DTSTAMP:20260419T145430
CREATED:20260320T080344Z
LAST-MODIFIED:20260320T080727Z
UID:10003223-1782122400-1782126000@waldau-macht-zukunft.de
SUMMARY:Treffpunkt Bewegung
DESCRIPTION:Jeden Montag starten die Menschen vom Stadtteilbüro\, nach einer Aufwärmrunde in den Stadtteil und suchen hier Plätze für weitere Übungen.                     Wir lernen unser Stadtteil immer wieder neu kennen und bleiben so Aktiv! Kommt uns seid dabei!
URL:https://waldau-macht-zukunft.de/event/treffpunkt-bewegung/2026-06-22/
LOCATION:Stadtteilbüro Waldau\, Görlitzer Straße 39j\, Waldau\, 34123
CATEGORIES:Bürgerinitiativen,Freizeit,Kurse,Sportkurse,Treffen
ATTACH;FMTTYPE=image/png:https://waldau-macht-zukunft.de/wp-content/uploads/2026/01/ChatGPT-Image-20.-Jan.-2026-00_16_42.png
END:VEVENT
BEGIN:VEVENT
DTSTART;TZID=Europe/Berlin:20260629T100000
DTEND;TZID=Europe/Berlin:20260629T110000
DTSTAMP:20260419T145430
CREATED:20260320T080344Z
LAST-MODIFIED:20260320T080727Z
UID:10003225-1782727200-1782730800@waldau-macht-zukunft.de
SUMMARY:Treffpunkt Bewegung
DESCRIPTION:Jeden Montag starten die Menschen vom Stadtteilbüro\, nach einer Aufwärmrunde in den Stadtteil und suchen hier Plätze für weitere Übungen.                     Wir lernen unser Stadtteil immer wieder neu kennen und bleiben so Aktiv! Kommt uns seid dabei!
URL:https://waldau-macht-zukunft.de/event/treffpunkt-bewegung/2026-06-29/
LOCATION:Stadtteilbüro Waldau\, Görlitzer Straße 39j\, Waldau\, 34123
CATEGORIES:Bürgerinitiativen,Freizeit,Kurse,Sportkurse,Treffen
ATTACH;FMTTYPE=image/png:https://waldau-macht-zukunft.de/wp-content/uploads/2026/01/ChatGPT-Image-20.-Jan.-2026-00_16_42.png
END:VEVENT
BEGIN:VEVENT
DTSTART;TZID=Europe/Berlin:20260706T100000
DTEND;TZID=Europe/Berlin:20260706T110000
DTSTAMP:20260419T145430
CREATED:20260320T080344Z
LAST-MODIFIED:20260320T080727Z
UID:10003227-1783332000-1783335600@waldau-macht-zukunft.de
SUMMARY:Treffpunkt Bewegung
DESCRIPTION:Jeden Montag starten die Menschen vom Stadtteilbüro\, nach einer Aufwärmrunde in den Stadtteil und suchen hier Plätze für weitere Übungen.                     Wir lernen unser Stadtteil immer wieder neu kennen und bleiben so Aktiv! Kommt uns seid dabei!
URL:https://waldau-macht-zukunft.de/event/treffpunkt-bewegung/2026-07-06/
LOCATION:Stadtteilbüro Waldau\, Görlitzer Straße 39j\, Waldau\, 34123
CATEGORIES:Bürgerinitiativen,Freizeit,Kurse,Sportkurse,Treffen
ATTACH;FMTTYPE=image/png:https://waldau-macht-zukunft.de/wp-content/uploads/2026/01/ChatGPT-Image-20.-Jan.-2026-00_16_42.png
END:VEVENT
BEGIN:VEVENT
DTSTART;TZID=Europe/Berlin:20260713T100000
DTEND;TZID=Europe/Berlin:20260713T110000
DTSTAMP:20260419T145430
CREATED:20260320T080344Z
LAST-MODIFIED:20260320T080727Z
UID:10003229-1783936800-1783940400@waldau-macht-zukunft.de
SUMMARY:Treffpunkt Bewegung
DESCRIPTION:Jeden Montag starten die Menschen vom Stadtteilbüro\, nach einer Aufwärmrunde in den Stadtteil und suchen hier Plätze für weitere Übungen.                     Wir lernen unser Stadtteil immer wieder neu kennen und bleiben so Aktiv! Kommt uns seid dabei!
URL:https://waldau-macht-zukunft.de/event/treffpunkt-bewegung/2026-07-13/
LOCATION:Stadtteilbüro Waldau\, Görlitzer Straße 39j\, Waldau\, 34123
CATEGORIES:Bürgerinitiativen,Freizeit,Kurse,Sportkurse,Treffen
ATTACH;FMTTYPE=image/png:https://waldau-macht-zukunft.de/wp-content/uploads/2026/01/ChatGPT-Image-20.-Jan.-2026-00_16_42.png
END:VEVENT
BEGIN:VEVENT
DTSTART;TZID=Europe/Berlin:20260720T100000
DTEND;TZID=Europe/Berlin:20260720T110000
DTSTAMP:20260419T145430
CREATED:20260320T080344Z
LAST-MODIFIED:20260320T080727Z
UID:10003231-1784541600-1784545200@waldau-macht-zukunft.de
SUMMARY:Treffpunkt Bewegung
DESCRIPTION:Jeden Montag starten die Menschen vom Stadtteilbüro\, nach einer Aufwärmrunde in den Stadtteil und suchen hier Plätze für weitere Übungen.                     Wir lernen unser Stadtteil immer wieder neu kennen und bleiben so Aktiv! Kommt uns seid dabei!
URL:https://waldau-macht-zukunft.de/event/treffpunkt-bewegung/2026-07-20/
LOCATION:Stadtteilbüro Waldau\, Görlitzer Straße 39j\, Waldau\, 34123
CATEGORIES:Bürgerinitiativen,Freizeit,Kurse,Sportkurse,Treffen
ATTACH;FMTTYPE=image/png:https://waldau-macht-zukunft.de/wp-content/uploads/2026/01/ChatGPT-Image-20.-Jan.-2026-00_16_42.png
END:VEVENT
BEGIN:VEVENT
DTSTART;TZID=Europe/Berlin:20260727T100000
DTEND;TZID=Europe/Berlin:20260727T110000
DTSTAMP:20260419T145430
CREATED:20260320T080344Z
LAST-MODIFIED:20260320T080727Z
UID:10003233-1785146400-1785150000@waldau-macht-zukunft.de
SUMMARY:Treffpunkt Bewegung
DESCRIPTION:Jeden Montag starten die Menschen vom Stadtteilbüro\, nach einer Aufwärmrunde in den Stadtteil und suchen hier Plätze für weitere Übungen.                     Wir lernen unser Stadtteil immer wieder neu kennen und bleiben so Aktiv! Kommt uns seid dabei!
URL:https://waldau-macht-zukunft.de/event/treffpunkt-bewegung/2026-07-27/
LOCATION:Stadtteilbüro Waldau\, Görlitzer Straße 39j\, Waldau\, 34123
CATEGORIES:Bürgerinitiativen,Freizeit,Kurse,Sportkurse,Treffen
ATTACH;FMTTYPE=image/png:https://waldau-macht-zukunft.de/wp-content/uploads/2026/01/ChatGPT-Image-20.-Jan.-2026-00_16_42.png
END:VEVENT
BEGIN:VEVENT
DTSTART;TZID=Europe/Berlin:20260803T100000
DTEND;TZID=Europe/Berlin:20260803T110000
DTSTAMP:20260419T145430
CREATED:20260320T080344Z
LAST-MODIFIED:20260320T080727Z
UID:10003235-1785751200-1785754800@waldau-macht-zukunft.de
SUMMARY:Treffpunkt Bewegung
DESCRIPTION:Jeden Montag starten die Menschen vom Stadtteilbüro\, nach einer Aufwärmrunde in den Stadtteil und suchen hier Plätze für weitere Übungen.                     Wir lernen unser Stadtteil immer wieder neu kennen und bleiben so Aktiv! Kommt uns seid dabei!
URL:https://waldau-macht-zukunft.de/event/treffpunkt-bewegung/2026-08-03/
LOCATION:Stadtteilbüro Waldau\, Görlitzer Straße 39j\, Waldau\, 34123
CATEGORIES:Bürgerinitiativen,Freizeit,Kurse,Sportkurse,Treffen
ATTACH;FMTTYPE=image/png:https://waldau-macht-zukunft.de/wp-content/uploads/2026/01/ChatGPT-Image-20.-Jan.-2026-00_16_42.png
END:VEVENT
BEGIN:VEVENT
DTSTART;TZID=Europe/Berlin:20260810T100000
DTEND;TZID=Europe/Berlin:20260810T110000
DTSTAMP:20260419T145430
CREATED:20260320T080344Z
LAST-MODIFIED:20260320T080727Z
UID:10003237-1786356000-1786359600@waldau-macht-zukunft.de
SUMMARY:Treffpunkt Bewegung
DESCRIPTION:Jeden Montag starten die Menschen vom Stadtteilbüro\, nach einer Aufwärmrunde in den Stadtteil und suchen hier Plätze für weitere Übungen.                     Wir lernen unser Stadtteil immer wieder neu kennen und bleiben so Aktiv! Kommt uns seid dabei!
URL:https://waldau-macht-zukunft.de/event/treffpunkt-bewegung/2026-08-10/
LOCATION:Stadtteilbüro Waldau\, Görlitzer Straße 39j\, Waldau\, 34123
CATEGORIES:Bürgerinitiativen,Freizeit,Kurse,Sportkurse,Treffen
ATTACH;FMTTYPE=image/png:https://waldau-macht-zukunft.de/wp-content/uploads/2026/01/ChatGPT-Image-20.-Jan.-2026-00_16_42.png
END:VEVENT
BEGIN:VEVENT
DTSTART;TZID=Europe/Berlin:20260817T100000
DTEND;TZID=Europe/Berlin:20260817T110000
DTSTAMP:20260419T145430
CREATED:20260320T080344Z
LAST-MODIFIED:20260320T080727Z
UID:10003239-1786960800-1786964400@waldau-macht-zukunft.de
SUMMARY:Treffpunkt Bewegung
DESCRIPTION:Jeden Montag starten die Menschen vom Stadtteilbüro\, nach einer Aufwärmrunde in den Stadtteil und suchen hier Plätze für weitere Übungen.                     Wir lernen unser Stadtteil immer wieder neu kennen und bleiben so Aktiv! Kommt uns seid dabei!
URL:https://waldau-macht-zukunft.de/event/treffpunkt-bewegung/2026-08-17/
LOCATION:Stadtteilbüro Waldau\, Görlitzer Straße 39j\, Waldau\, 34123
CATEGORIES:Bürgerinitiativen,Freizeit,Kurse,Sportkurse,Treffen
ATTACH;FMTTYPE=image/png:https://waldau-macht-zukunft.de/wp-content/uploads/2026/01/ChatGPT-Image-20.-Jan.-2026-00_16_42.png
END:VEVENT
BEGIN:VEVENT
DTSTART;TZID=Europe/Berlin:20260824T100000
DTEND;TZID=Europe/Berlin:20260824T110000
DTSTAMP:20260419T145430
CREATED:20260320T080344Z
LAST-MODIFIED:20260320T080727Z
UID:10003241-1787565600-1787569200@waldau-macht-zukunft.de
SUMMARY:Treffpunkt Bewegung
DESCRIPTION:Jeden Montag starten die Menschen vom Stadtteilbüro\, nach einer Aufwärmrunde in den Stadtteil und suchen hier Plätze für weitere Übungen.                     Wir lernen unser Stadtteil immer wieder neu kennen und bleiben so Aktiv! Kommt uns seid dabei!
URL:https://waldau-macht-zukunft.de/event/treffpunkt-bewegung/2026-08-24/
LOCATION:Stadtteilbüro Waldau\, Görlitzer Straße 39j\, Waldau\, 34123
CATEGORIES:Bürgerinitiativen,Freizeit,Kurse,Sportkurse,Treffen
ATTACH;FMTTYPE=image/png:https://waldau-macht-zukunft.de/wp-content/uploads/2026/01/ChatGPT-Image-20.-Jan.-2026-00_16_42.png
END:VEVENT
BEGIN:VEVENT
DTSTART;TZID=Europe/Berlin:20260831T100000
DTEND;TZID=Europe/Berlin:20260831T110000
DTSTAMP:20260419T145430
CREATED:20260320T080344Z
LAST-MODIFIED:20260320T080727Z
UID:10003243-1788170400-1788174000@waldau-macht-zukunft.de
SUMMARY:Treffpunkt Bewegung
DESCRIPTION:Jeden Montag starten die Menschen vom Stadtteilbüro\, nach einer Aufwärmrunde in den Stadtteil und suchen hier Plätze für weitere Übungen.                     Wir lernen unser Stadtteil immer wieder neu kennen und bleiben so Aktiv! Kommt uns seid dabei!
URL:https://waldau-macht-zukunft.de/event/treffpunkt-bewegung/2026-08-31/
LOCATION:Stadtteilbüro Waldau\, Görlitzer Straße 39j\, Waldau\, 34123
CATEGORIES:Bürgerinitiativen,Freizeit,Kurse,Sportkurse,Treffen
ATTACH;FMTTYPE=image/png:https://waldau-macht-zukunft.de/wp-content/uploads/2026/01/ChatGPT-Image-20.-Jan.-2026-00_16_42.png
END:VEVENT
BEGIN:VEVENT
DTSTART;TZID=Europe/Berlin:20260907T100000
DTEND;TZID=Europe/Berlin:20260907T110000
DTSTAMP:20260419T145430
CREATED:20260320T080344Z
LAST-MODIFIED:20260320T080727Z
UID:10003245-1788775200-1788778800@waldau-macht-zukunft.de
SUMMARY:Treffpunkt Bewegung
DESCRIPTION:Jeden Montag starten die Menschen vom Stadtteilbüro\, nach einer Aufwärmrunde in den Stadtteil und suchen hier Plätze für weitere Übungen.                     Wir lernen unser Stadtteil immer wieder neu kennen und bleiben so Aktiv! Kommt uns seid dabei!
URL:https://waldau-macht-zukunft.de/event/treffpunkt-bewegung/2026-09-07/
LOCATION:Stadtteilbüro Waldau\, Görlitzer Straße 39j\, Waldau\, 34123
CATEGORIES:Bürgerinitiativen,Freizeit,Kurse,Sportkurse,Treffen
ATTACH;FMTTYPE=image/png:https://waldau-macht-zukunft.de/wp-content/uploads/2026/01/ChatGPT-Image-20.-Jan.-2026-00_16_42.png
END:VEVENT
BEGIN:VEVENT
DTSTART;TZID=Europe/Berlin:20260914T100000
DTEND;TZID=Europe/Berlin:20260914T110000
DTSTAMP:20260419T145430
CREATED:20260320T080344Z
LAST-MODIFIED:20260320T080727Z
UID:10003247-1789380000-1789383600@waldau-macht-zukunft.de
SUMMARY:Treffpunkt Bewegung
DESCRIPTION:Jeden Montag starten die Menschen vom Stadtteilbüro\, nach einer Aufwärmrunde in den Stadtteil und suchen hier Plätze für weitere Übungen.                     Wir lernen unser Stadtteil immer wieder neu kennen und bleiben so Aktiv! Kommt uns seid dabei!
URL:https://waldau-macht-zukunft.de/event/treffpunkt-bewegung/2026-09-14/
LOCATION:Stadtteilbüro Waldau\, Görlitzer Straße 39j\, Waldau\, 34123
CATEGORIES:Bürgerinitiativen,Freizeit,Kurse,Sportkurse,Treffen
ATTACH;FMTTYPE=image/png:https://waldau-macht-zukunft.de/wp-content/uploads/2026/01/ChatGPT-Image-20.-Jan.-2026-00_16_42.png
END:VEVENT
BEGIN:VEVENT
DTSTART;TZID=Europe/Berlin:20260921T100000
DTEND;TZID=Europe/Berlin:20260921T110000
DTSTAMP:20260419T145430
CREATED:20260320T080344Z
LAST-MODIFIED:20260320T080727Z
UID:10003249-1789984800-1789988400@waldau-macht-zukunft.de
SUMMARY:Treffpunkt Bewegung
DESCRIPTION:Jeden Montag starten die Menschen vom Stadtteilbüro\, nach einer Aufwärmrunde in den Stadtteil und suchen hier Plätze für weitere Übungen.                     Wir lernen unser Stadtteil immer wieder neu kennen und bleiben so Aktiv! Kommt uns seid dabei!
URL:https://waldau-macht-zukunft.de/event/treffpunkt-bewegung/2026-09-21/
LOCATION:Stadtteilbüro Waldau\, Görlitzer Straße 39j\, Waldau\, 34123
CATEGORIES:Bürgerinitiativen,Freizeit,Kurse,Sportkurse,Treffen
ATTACH;FMTTYPE=image/png:https://waldau-macht-zukunft.de/wp-content/uploads/2026/01/ChatGPT-Image-20.-Jan.-2026-00_16_42.png
END:VEVENT
BEGIN:VEVENT
DTSTART;TZID=Europe/Berlin:20260928T100000
DTEND;TZID=Europe/Berlin:20260928T110000
DTSTAMP:20260419T145430
CREATED:20260320T080344Z
LAST-MODIFIED:20260320T080727Z
UID:10003251-1790589600-1790593200@waldau-macht-zukunft.de
SUMMARY:Treffpunkt Bewegung
DESCRIPTION:Jeden Montag starten die Menschen vom Stadtteilbüro\, nach einer Aufwärmrunde in den Stadtteil und suchen hier Plätze für weitere Übungen.                     Wir lernen unser Stadtteil immer wieder neu kennen und bleiben so Aktiv! Kommt uns seid dabei!
URL:https://waldau-macht-zukunft.de/event/treffpunkt-bewegung/2026-09-28/
LOCATION:Stadtteilbüro Waldau\, Görlitzer Straße 39j\, Waldau\, 34123
CATEGORIES:Bürgerinitiativen,Freizeit,Kurse,Sportkurse,Treffen
ATTACH;FMTTYPE=image/png:https://waldau-macht-zukunft.de/wp-content/uploads/2026/01/ChatGPT-Image-20.-Jan.-2026-00_16_42.png
END:VEVENT
BEGIN:VEVENT
DTSTART;TZID=Europe/Berlin:20261005T100000
DTEND;TZID=Europe/Berlin:20261005T110000
DTSTAMP:20260419T145430
CREATED:20260320T080344Z
LAST-MODIFIED:20260320T080727Z
UID:10003253-1791194400-1791198000@waldau-macht-zukunft.de
SUMMARY:Treffpunkt Bewegung
DESCRIPTION:Jeden Montag starten die Menschen vom Stadtteilbüro\, nach einer Aufwärmrunde in den Stadtteil und suchen hier Plätze für weitere Übungen.                     Wir lernen unser Stadtteil immer wieder neu kennen und bleiben so Aktiv! Kommt uns seid dabei!
URL:https://waldau-macht-zukunft.de/event/treffpunkt-bewegung/2026-10-05/
LOCATION:Stadtteilbüro Waldau\, Görlitzer Straße 39j\, Waldau\, 34123
CATEGORIES:Bürgerinitiativen,Freizeit,Kurse,Sportkurse,Treffen
ATTACH;FMTTYPE=image/png:https://waldau-macht-zukunft.de/wp-content/uploads/2026/01/ChatGPT-Image-20.-Jan.-2026-00_16_42.png
END:VEVENT
BEGIN:VEVENT
DTSTART;TZID=Europe/Berlin:20261012T100000
DTEND;TZID=Europe/Berlin:20261012T110000
DTSTAMP:20260419T145430
CREATED:20260320T080344Z
LAST-MODIFIED:20260320T080727Z
UID:10003255-1791799200-1791802800@waldau-macht-zukunft.de
SUMMARY:Treffpunkt Bewegung
DESCRIPTION:Jeden Montag starten die Menschen vom Stadtteilbüro\, nach einer Aufwärmrunde in den Stadtteil und suchen hier Plätze für weitere Übungen.                     Wir lernen unser Stadtteil immer wieder neu kennen und bleiben so Aktiv! Kommt uns seid dabei!
URL:https://waldau-macht-zukunft.de/event/treffpunkt-bewegung/2026-10-12/
LOCATION:Stadtteilbüro Waldau\, Görlitzer Straße 39j\, Waldau\, 34123
CATEGORIES:Bürgerinitiativen,Freizeit,Kurse,Sportkurse,Treffen
ATTACH;FMTTYPE=image/png:https://waldau-macht-zukunft.de/wp-content/uploads/2026/01/ChatGPT-Image-20.-Jan.-2026-00_16_42.png
END:VEVENT
BEGIN:VEVENT
DTSTART;TZID=Europe/Berlin:20261019T100000
DTEND;TZID=Europe/Berlin:20261019T110000
DTSTAMP:20260419T145430
CREATED:20260320T080344Z
LAST-MODIFIED:20260320T080727Z
UID:10003257-1792404000-1792407600@waldau-macht-zukunft.de
SUMMARY:Treffpunkt Bewegung
DESCRIPTION:Jeden Montag starten die Menschen vom Stadtteilbüro\, nach einer Aufwärmrunde in den Stadtteil und suchen hier Plätze für weitere Übungen.                     Wir lernen unser Stadtteil immer wieder neu kennen und bleiben so Aktiv! Kommt uns seid dabei!
URL:https://waldau-macht-zukunft.de/event/treffpunkt-bewegung/2026-10-19/
LOCATION:Stadtteilbüro Waldau\, Görlitzer Straße 39j\, Waldau\, 34123
CATEGORIES:Bürgerinitiativen,Freizeit,Kurse,Sportkurse,Treffen
ATTACH;FMTTYPE=image/png:https://waldau-macht-zukunft.de/wp-content/uploads/2026/01/ChatGPT-Image-20.-Jan.-2026-00_16_42.png
END:VEVENT
BEGIN:VEVENT
DTSTART;TZID=Europe/Berlin:20261026T100000
DTEND;TZID=Europe/Berlin:20261026T110000
DTSTAMP:20260419T145430
CREATED:20260320T080344Z
LAST-MODIFIED:20260320T080727Z
UID:10003259-1793008800-1793012400@waldau-macht-zukunft.de
SUMMARY:Treffpunkt Bewegung
DESCRIPTION:Jeden Montag starten die Menschen vom Stadtteilbüro\, nach einer Aufwärmrunde in den Stadtteil und suchen hier Plätze für weitere Übungen.                     Wir lernen unser Stadtteil immer wieder neu kennen und bleiben so Aktiv! Kommt uns seid dabei!
URL:https://waldau-macht-zukunft.de/event/treffpunkt-bewegung/2026-10-26/
LOCATION:Stadtteilbüro Waldau\, Görlitzer Straße 39j\, Waldau\, 34123
CATEGORIES:Bürgerinitiativen,Freizeit,Kurse,Sportkurse,Treffen
ATTACH;FMTTYPE=image/png:https://waldau-macht-zukunft.de/wp-content/uploads/2026/01/ChatGPT-Image-20.-Jan.-2026-00_16_42.png
END:VEVENT
BEGIN:VEVENT
DTSTART;TZID=Europe/Berlin:20261102T100000
DTEND;TZID=Europe/Berlin:20261102T110000
DTSTAMP:20260419T145430
CREATED:20260320T080344Z
LAST-MODIFIED:20260320T080727Z
UID:10003261-1793613600-1793617200@waldau-macht-zukunft.de
SUMMARY:Treffpunkt Bewegung
DESCRIPTION:Jeden Montag starten die Menschen vom Stadtteilbüro\, nach einer Aufwärmrunde in den Stadtteil und suchen hier Plätze für weitere Übungen.                     Wir lernen unser Stadtteil immer wieder neu kennen und bleiben so Aktiv! Kommt uns seid dabei!
URL:https://waldau-macht-zukunft.de/event/treffpunkt-bewegung/2026-11-02/
LOCATION:Stadtteilbüro Waldau\, Görlitzer Straße 39j\, Waldau\, 34123
CATEGORIES:Bürgerinitiativen,Freizeit,Kurse,Sportkurse,Treffen
ATTACH;FMTTYPE=image/png:https://waldau-macht-zukunft.de/wp-content/uploads/2026/01/ChatGPT-Image-20.-Jan.-2026-00_16_42.png
END:VEVENT
BEGIN:VEVENT
DTSTART;TZID=Europe/Berlin:20261109T100000
DTEND;TZID=Europe/Berlin:20261109T110000
DTSTAMP:20260419T145430
CREATED:20260320T080344Z
LAST-MODIFIED:20260320T080727Z
UID:10003263-1794218400-1794222000@waldau-macht-zukunft.de
SUMMARY:Treffpunkt Bewegung
DESCRIPTION:Jeden Montag starten die Menschen vom Stadtteilbüro\, nach einer Aufwärmrunde in den Stadtteil und suchen hier Plätze für weitere Übungen.                     Wir lernen unser Stadtteil immer wieder neu kennen und bleiben so Aktiv! Kommt uns seid dabei!
URL:https://waldau-macht-zukunft.de/event/treffpunkt-bewegung/2026-11-09/
LOCATION:Stadtteilbüro Waldau\, Görlitzer Straße 39j\, Waldau\, 34123
CATEGORIES:Bürgerinitiativen,Freizeit,Kurse,Sportkurse,Treffen
ATTACH;FMTTYPE=image/png:https://waldau-macht-zukunft.de/wp-content/uploads/2026/01/ChatGPT-Image-20.-Jan.-2026-00_16_42.png
END:VEVENT
BEGIN:VEVENT
DTSTART;TZID=Europe/Berlin:20261116T100000
DTEND;TZID=Europe/Berlin:20261116T110000
DTSTAMP:20260419T145430
CREATED:20260320T080344Z
LAST-MODIFIED:20260320T080727Z
UID:10003265-1794823200-1794826800@waldau-macht-zukunft.de
SUMMARY:Treffpunkt Bewegung
DESCRIPTION:Jeden Montag starten die Menschen vom Stadtteilbüro\, nach einer Aufwärmrunde in den Stadtteil und suchen hier Plätze für weitere Übungen.                     Wir lernen unser Stadtteil immer wieder neu kennen und bleiben so Aktiv! Kommt uns seid dabei!
URL:https://waldau-macht-zukunft.de/event/treffpunkt-bewegung/2026-11-16/
LOCATION:Stadtteilbüro Waldau\, Görlitzer Straße 39j\, Waldau\, 34123
CATEGORIES:Bürgerinitiativen,Freizeit,Kurse,Sportkurse,Treffen
ATTACH;FMTTYPE=image/png:https://waldau-macht-zukunft.de/wp-content/uploads/2026/01/ChatGPT-Image-20.-Jan.-2026-00_16_42.png
END:VEVENT
BEGIN:VEVENT
DTSTART;TZID=Europe/Berlin:20261123T100000
DTEND;TZID=Europe/Berlin:20261123T110000
DTSTAMP:20260419T145430
CREATED:20260320T080344Z
LAST-MODIFIED:20260320T080727Z
UID:10003267-1795428000-1795431600@waldau-macht-zukunft.de
SUMMARY:Treffpunkt Bewegung
DESCRIPTION:Jeden Montag starten die Menschen vom Stadtteilbüro\, nach einer Aufwärmrunde in den Stadtteil und suchen hier Plätze für weitere Übungen.                     Wir lernen unser Stadtteil immer wieder neu kennen und bleiben so Aktiv! Kommt uns seid dabei!
URL:https://waldau-macht-zukunft.de/event/treffpunkt-bewegung/2026-11-23/
LOCATION:Stadtteilbüro Waldau\, Görlitzer Straße 39j\, Waldau\, 34123
CATEGORIES:Bürgerinitiativen,Freizeit,Kurse,Sportkurse,Treffen
ATTACH;FMTTYPE=image/png:https://waldau-macht-zukunft.de/wp-content/uploads/2026/01/ChatGPT-Image-20.-Jan.-2026-00_16_42.png
END:VEVENT
BEGIN:VEVENT
DTSTART;TZID=Europe/Berlin:20261130T100000
DTEND;TZID=Europe/Berlin:20261130T110000
DTSTAMP:20260419T145430
CREATED:20260320T080344Z
LAST-MODIFIED:20260320T080727Z
UID:10003269-1796032800-1796036400@waldau-macht-zukunft.de
SUMMARY:Treffpunkt Bewegung
DESCRIPTION:Jeden Montag starten die Menschen vom Stadtteilbüro\, nach einer Aufwärmrunde in den Stadtteil und suchen hier Plätze für weitere Übungen.                     Wir lernen unser Stadtteil immer wieder neu kennen und bleiben so Aktiv! Kommt uns seid dabei!
URL:https://waldau-macht-zukunft.de/event/treffpunkt-bewegung/2026-11-30/
LOCATION:Stadtteilbüro Waldau\, Görlitzer Straße 39j\, Waldau\, 34123
CATEGORIES:Bürgerinitiativen,Freizeit,Kurse,Sportkurse,Treffen
ATTACH;FMTTYPE=image/png:https://waldau-macht-zukunft.de/wp-content/uploads/2026/01/ChatGPT-Image-20.-Jan.-2026-00_16_42.png
END:VEVENT
BEGIN:VEVENT
DTSTART;TZID=Europe/Berlin:20261207T100000
DTEND;TZID=Europe/Berlin:20261207T110000
DTSTAMP:20260419T145430
CREATED:20260320T080344Z
LAST-MODIFIED:20260320T080727Z
UID:10003271-1796637600-1796641200@waldau-macht-zukunft.de
SUMMARY:Treffpunkt Bewegung
DESCRIPTION:Jeden Montag starten die Menschen vom Stadtteilbüro\, nach einer Aufwärmrunde in den Stadtteil und suchen hier Plätze für weitere Übungen.                     Wir lernen unser Stadtteil immer wieder neu kennen und bleiben so Aktiv! Kommt uns seid dabei!
URL:https://waldau-macht-zukunft.de/event/treffpunkt-bewegung/2026-12-07/
LOCATION:Stadtteilbüro Waldau\, Görlitzer Straße 39j\, Waldau\, 34123
CATEGORIES:Bürgerinitiativen,Freizeit,Kurse,Sportkurse,Treffen
ATTACH;FMTTYPE=image/png:https://waldau-macht-zukunft.de/wp-content/uploads/2026/01/ChatGPT-Image-20.-Jan.-2026-00_16_42.png
END:VEVENT
BEGIN:VEVENT
DTSTART;TZID=Europe/Berlin:20261214T100000
DTEND;TZID=Europe/Berlin:20261214T110000
DTSTAMP:20260419T145430
CREATED:20260320T080344Z
LAST-MODIFIED:20260320T080727Z
UID:10003273-1797242400-1797246000@waldau-macht-zukunft.de
SUMMARY:Treffpunkt Bewegung
DESCRIPTION:Jeden Montag starten die Menschen vom Stadtteilbüro\, nach einer Aufwärmrunde in den Stadtteil und suchen hier Plätze für weitere Übungen.                     Wir lernen unser Stadtteil immer wieder neu kennen und bleiben so Aktiv! Kommt uns seid dabei!
URL:https://waldau-macht-zukunft.de/event/treffpunkt-bewegung/2026-12-14/
LOCATION:Stadtteilbüro Waldau\, Görlitzer Straße 39j\, Waldau\, 34123
CATEGORIES:Bürgerinitiativen,Freizeit,Kurse,Sportkurse,Treffen
ATTACH;FMTTYPE=image/png:https://waldau-macht-zukunft.de/wp-content/uploads/2026/01/ChatGPT-Image-20.-Jan.-2026-00_16_42.png
END:VEVENT
BEGIN:VEVENT
DTSTART;TZID=Europe/Berlin:20261221T100000
DTEND;TZID=Europe/Berlin:20261221T110000
DTSTAMP:20260419T145430
CREATED:20260320T080344Z
LAST-MODIFIED:20260320T080727Z
UID:10003275-1797847200-1797850800@waldau-macht-zukunft.de
SUMMARY:Treffpunkt Bewegung
DESCRIPTION:Jeden Montag starten die Menschen vom Stadtteilbüro\, nach einer Aufwärmrunde in den Stadtteil und suchen hier Plätze für weitere Übungen.                     Wir lernen unser Stadtteil immer wieder neu kennen und bleiben so Aktiv! Kommt uns seid dabei!
URL:https://waldau-macht-zukunft.de/event/treffpunkt-bewegung/2026-12-21/
LOCATION:Stadtteilbüro Waldau\, Görlitzer Straße 39j\, Waldau\, 34123
CATEGORIES:Bürgerinitiativen,Freizeit,Kurse,Sportkurse,Treffen
ATTACH;FMTTYPE=image/png:https://waldau-macht-zukunft.de/wp-content/uploads/2026/01/ChatGPT-Image-20.-Jan.-2026-00_16_42.png
END:VEVENT
BEGIN:VEVENT
DTSTART;TZID=Europe/Berlin:20261228T100000
DTEND;TZID=Europe/Berlin:20261228T110000
DTSTAMP:20260419T145430
CREATED:20260320T080344Z
LAST-MODIFIED:20260320T080727Z
UID:10003277-1798452000-1798455600@waldau-macht-zukunft.de
SUMMARY:Treffpunkt Bewegung
DESCRIPTION:Jeden Montag starten die Menschen vom Stadtteilbüro\, nach einer Aufwärmrunde in den Stadtteil und suchen hier Plätze für weitere Übungen.                     Wir lernen unser Stadtteil immer wieder neu kennen und bleiben so Aktiv! Kommt uns seid dabei!
URL:https://waldau-macht-zukunft.de/event/treffpunkt-bewegung/2026-12-28/
LOCATION:Stadtteilbüro Waldau\, Görlitzer Straße 39j\, Waldau\, 34123
CATEGORIES:Bürgerinitiativen,Freizeit,Kurse,Sportkurse,Treffen
ATTACH;FMTTYPE=image/png:https://waldau-macht-zukunft.de/wp-content/uploads/2026/01/ChatGPT-Image-20.-Jan.-2026-00_16_42.png
END:VEVENT
BEGIN:VEVENT
DTSTART;TZID=Europe/Berlin:20270104T100000
DTEND;TZID=Europe/Berlin:20270104T110000
DTSTAMP:20260419T145430
CREATED:20260320T080344Z
LAST-MODIFIED:20260320T080727Z
UID:10003279-1799056800-1799060400@waldau-macht-zukunft.de
SUMMARY:Treffpunkt Bewegung
DESCRIPTION:Jeden Montag starten die Menschen vom Stadtteilbüro\, nach einer Aufwärmrunde in den Stadtteil und suchen hier Plätze für weitere Übungen.                     Wir lernen unser Stadtteil immer wieder neu kennen und bleiben so Aktiv! Kommt uns seid dabei!
URL:https://waldau-macht-zukunft.de/event/treffpunkt-bewegung/2027-01-04/
LOCATION:Stadtteilbüro Waldau\, Görlitzer Straße 39j\, Waldau\, 34123
CATEGORIES:Bürgerinitiativen,Freizeit,Kurse,Sportkurse,Treffen
ATTACH;FMTTYPE=image/png:https://waldau-macht-zukunft.de/wp-content/uploads/2026/01/ChatGPT-Image-20.-Jan.-2026-00_16_42.png
END:VEVENT
BEGIN:VEVENT
DTSTART;TZID=Europe/Berlin:20270111T100000
DTEND;TZID=Europe/Berlin:20270111T110000
DTSTAMP:20260419T145430
CREATED:20260320T080344Z
LAST-MODIFIED:20260320T080727Z
UID:10003281-1799661600-1799665200@waldau-macht-zukunft.de
SUMMARY:Treffpunkt Bewegung
DESCRIPTION:Jeden Montag starten die Menschen vom Stadtteilbüro\, nach einer Aufwärmrunde in den Stadtteil und suchen hier Plätze für weitere Übungen.                     Wir lernen unser Stadtteil immer wieder neu kennen und bleiben so Aktiv! Kommt uns seid dabei!
URL:https://waldau-macht-zukunft.de/event/treffpunkt-bewegung/2027-01-11/
LOCATION:Stadtteilbüro Waldau\, Görlitzer Straße 39j\, Waldau\, 34123
CATEGORIES:Bürgerinitiativen,Freizeit,Kurse,Sportkurse,Treffen
ATTACH;FMTTYPE=image/png:https://waldau-macht-zukunft.de/wp-content/uploads/2026/01/ChatGPT-Image-20.-Jan.-2026-00_16_42.png
END:VEVENT
END:VCALENDAR