BEGIN:VCALENDAR
VERSION:2.0
PRODID:-//waldau-macht-zukunft.de - ECPv6.15.20//NONSGML v1.0//EN
CALSCALE:GREGORIAN
METHOD:PUBLISH
X-WR-CALNAME:waldau-macht-zukunft.de
X-ORIGINAL-URL:https://waldau-macht-zukunft.de
X-WR-CALDESC:Veranstaltungen für waldau-macht-zukunft.de
REFRESH-INTERVAL;VALUE=DURATION:PT1H
X-Robots-Tag:noindex
X-PUBLISHED-TTL:PT1H
BEGIN:VTIMEZONE
TZID:Europe/Berlin
BEGIN:DAYLIGHT
TZOFFSETFROM:+0100
TZOFFSETTO:+0200
TZNAME:CEST
DTSTART:20250330T010000
END:DAYLIGHT
BEGIN:STANDARD
TZOFFSETFROM:+0200
TZOFFSETTO:+0100
TZNAME:CET
DTSTART:20251026T010000
END:STANDARD
BEGIN:DAYLIGHT
TZOFFSETFROM:+0100
TZOFFSETTO:+0200
TZNAME:CEST
DTSTART:20260329T010000
END:DAYLIGHT
BEGIN:STANDARD
TZOFFSETFROM:+0200
TZOFFSETTO:+0100
TZNAME:CET
DTSTART:20261025T010000
END:STANDARD
BEGIN:DAYLIGHT
TZOFFSETFROM:+0100
TZOFFSETTO:+0200
TZNAME:CEST
DTSTART:20270328T010000
END:DAYLIGHT
BEGIN:STANDARD
TZOFFSETFROM:+0200
TZOFFSETTO:+0100
TZNAME:CET
DTSTART:20271031T010000
END:STANDARD
END:VTIMEZONE
BEGIN:VEVENT
DTSTART;TZID=Europe/Berlin:20260423T150000
DTEND;TZID=Europe/Berlin:20260423T170000
DTSTAMP:20260419T154341
CREATED:20260402T111348Z
LAST-MODIFIED:20260415T072555Z
UID:10003321-1776956400-1776963600@waldau-macht-zukunft.de
SUMMARY:Offenes Stadtteilforum Waldau trifft sich - Waldau informiert sich
DESCRIPTION:In diesem Jahr ist es wieder soweit:\nAuf der Bühne und an Infoständen präsentieren sich Bildungsorte und viele Angebote für Kinder\, Jugendliche und Erwachsene. Herzliche Einladung zu einem Nachmittag mit Mitmachaktionen für Kinder\, mit Kaffee\, Tee\, Kuchen und zum Informieren.\nSie haben Wünsche oder Ideen? Wir freuen uns\, wenn Sie uns Ihre Ideen mitteilen und die Bildungsregion Waldau mitgestalten.  \nKontakt: Koordination Bildungsregion Waldau\nTelefon 0561. 787 4324\nEmail: simone.dieling@kassel.de
URL:https://waldau-macht-zukunft.de/event/offenes-stadtteilforum-waldau-trifft-sich-waldau-informiert-sich/
LOCATION:Mensa und Musikpavillion Offene Schule Waldau\, Stegerwaldstraße 45\, Kassel\, 34123\, Germany
CATEGORIES:Ausstellung,Bildungsangebote,Feste,Kita/Schul-Events,Nachhaltigkeit,Repair-Café,Vereine,Workshops
ATTACH;FMTTYPE=image/png:https://waldau-macht-zukunft.de/wp-content/uploads/2026/04/Offenes-Stadtteilforum-in-Waldau.png
ORGANIZER;CN="Bildungsregion Waldau":MAILTO:simone.dieling@kassel.de
END:VEVENT
END:VCALENDAR