BEGIN:VCALENDAR
VERSION:2.0
PRODID:-//waldau-macht-zukunft.de - ECPv6.15.20//NONSGML v1.0//EN
CALSCALE:GREGORIAN
METHOD:PUBLISH
X-ORIGINAL-URL:https://waldau-macht-zukunft.de
X-WR-CALDESC:Veranstaltungen für waldau-macht-zukunft.de
REFRESH-INTERVAL;VALUE=DURATION:PT1H
X-Robots-Tag:noindex
X-PUBLISHED-TTL:PT1H
BEGIN:VTIMEZONE
TZID:Europe/Berlin
BEGIN:DAYLIGHT
TZOFFSETFROM:+0100
TZOFFSETTO:+0200
TZNAME:CEST
DTSTART:20250330T010000
END:DAYLIGHT
BEGIN:STANDARD
TZOFFSETFROM:+0200
TZOFFSETTO:+0100
TZNAME:CET
DTSTART:20251026T010000
END:STANDARD
BEGIN:DAYLIGHT
TZOFFSETFROM:+0100
TZOFFSETTO:+0200
TZNAME:CEST
DTSTART:20260329T010000
END:DAYLIGHT
BEGIN:STANDARD
TZOFFSETFROM:+0200
TZOFFSETTO:+0100
TZNAME:CET
DTSTART:20261025T010000
END:STANDARD
BEGIN:DAYLIGHT
TZOFFSETFROM:+0100
TZOFFSETTO:+0200
TZNAME:CEST
DTSTART:20270328T010000
END:DAYLIGHT
BEGIN:STANDARD
TZOFFSETFROM:+0200
TZOFFSETTO:+0100
TZNAME:CET
DTSTART:20271031T010000
END:STANDARD
END:VTIMEZONE
BEGIN:VEVENT
DTSTART;TZID=Europe/Berlin:20260501T100000
DTEND;TZID=Europe/Berlin:20260501T180000
DTSTAMP:20260421T225613
CREATED:20260419T092830Z
LAST-MODIFIED:20260419T092940Z
UID:10003606-1777629600-1777658400@waldau-macht-zukunft.de
SUMMARY:TAG DER OFFENEN TÜR
DESCRIPTION:
URL:https://waldau-macht-zukunft.de/event/tag-der-offenen-tuer/
LOCATION:Freiwillige Feuerwehr Waldau\, Waldamar Petersen Straße 47\, Kassel\, Hessen\, 34123\, Germany
CATEGORIES:Bürgerinitiativen,Feste,Freizeit,Kultur,Lernen,Nachhaltigkeit,Spielaktionen,Treffen,Vereine
ATTACH;FMTTYPE=image/jpeg:https://waldau-macht-zukunft.de/wp-content/uploads/2026/04/1000023216.jpg
ORGANIZER;CN="Freiwillige Feuerwehr Kassel-Waldau e%2CV.":MAILTO:feuerwehr.waldau@kassel.de
END:VEVENT
END:VCALENDAR