BEGIN:VCALENDAR
VERSION:2.0
PRODID:-//waldau-macht-zukunft.de - ECPv6.15.20//NONSGML v1.0//EN
CALSCALE:GREGORIAN
METHOD:PUBLISH
X-WR-CALNAME:waldau-macht-zukunft.de
X-ORIGINAL-URL:https://waldau-macht-zukunft.de
X-WR-CALDESC:Veranstaltungen für waldau-macht-zukunft.de
REFRESH-INTERVAL;VALUE=DURATION:PT1H
X-Robots-Tag:noindex
X-PUBLISHED-TTL:PT1H
BEGIN:VTIMEZONE
TZID:Europe/Berlin
BEGIN:DAYLIGHT
TZOFFSETFROM:+0100
TZOFFSETTO:+0200
TZNAME:CEST
DTSTART:20250330T010000
END:DAYLIGHT
BEGIN:STANDARD
TZOFFSETFROM:+0200
TZOFFSETTO:+0100
TZNAME:CET
DTSTART:20251026T010000
END:STANDARD
BEGIN:DAYLIGHT
TZOFFSETFROM:+0100
TZOFFSETTO:+0200
TZNAME:CEST
DTSTART:20260329T010000
END:DAYLIGHT
BEGIN:STANDARD
TZOFFSETFROM:+0200
TZOFFSETTO:+0100
TZNAME:CET
DTSTART:20261025T010000
END:STANDARD
BEGIN:DAYLIGHT
TZOFFSETFROM:+0100
TZOFFSETTO:+0200
TZNAME:CEST
DTSTART:20270328T010000
END:DAYLIGHT
BEGIN:STANDARD
TZOFFSETFROM:+0200
TZOFFSETTO:+0100
TZNAME:CET
DTSTART:20271031T010000
END:STANDARD
END:VTIMEZONE
BEGIN:VEVENT
DTSTART;TZID=Europe/Berlin:20260423T150000
DTEND;TZID=Europe/Berlin:20260423T170000
DTSTAMP:20260423T145034
CREATED:20260419T115013Z
LAST-MODIFIED:20260419T115013Z
UID:10003608-1776956400-1776963600@waldau-macht-zukunft.de
SUMMARY:Waldau-macht-Zukunft.de
DESCRIPTION:Hallo Waldauer-Bürgerinnen kommt am Donnerstag den 23.April 25 um 15 Uhr in die Mensa der Offenen Schule Waldau! \nWir wollen euch eine neue Möglichkeit vorstellen\, wie Sie immer Informiert sind was im Stadtteil los ist! \nWir freuen uns mit euch ins Gespräch zukommen.
URL:https://waldau-macht-zukunft.de/event/waldau-macht-zukunft-de/
LOCATION:Offen Schule Walda\, Stegerwaldstraße 45\, Kassel\, Bundesstaat wählen:\, 34123\, Germany
CATEGORIES:Bildungsangebote,Bürgerinitiativen,Feste,Freizeit,Grünes Waldau,Kultur,Lernen,Nachhaltigkeit,Stammtische,Treffen,Vereine
ATTACH;FMTTYPE=image/jpeg:https://waldau-macht-zukunft.de/wp-content/uploads/2026/04/20260416_091222-scaled.jpg
ORGANIZER;CN="Stammtisch Waldau macht Zukunft":MAILTO:bach.koch@googlemail.com
END:VEVENT
BEGIN:VEVENT
DTSTART;TZID=Europe/Berlin:20260427T180000
DTEND;TZID=Europe/Berlin:20260427T200000
DTSTAMP:20260423T145034
CREATED:20260412T150741Z
LAST-MODIFIED:20260415T081234Z
UID:10003586-1777312800-1777320000@waldau-macht-zukunft.de
SUMMARY:Stammtisch Waldau macht Zukunft
DESCRIPTION:Der Stammtisch „Waldau macht Zukunft“ ist ein offener Treffpunkt für alle\, die ihren Stadtteil aktiv mitgestalten möchten. Hier kommen engagierte Bürgerinnen und Bürger zusammen\, um Ideen auszutauschen\, Projekte anzustoßen und gemeinsam an einer lebenswerten Zukunft für Waldau zu arbeiten. \nIn lockerer Atmosphäre entstehen Gespräche\, neue Impulse und konkrete Ansätze für den Stadtteil – egal ob es um Nachhaltigkeit\, Nachbarschaft oder neue Aktionen geht. Jeder ist willkommen\, sich einzubringen oder einfach zuzuhören und Teil der Gemeinschaft zu werden. \nGemeinsam wird aus Ideen Zukunft.
URL:https://waldau-macht-zukunft.de/event/stammtisch-waldau-macht-zukunft/
LOCATION:Stadtteilbüro Waldau\, Görlitzer Straße 39j\, Waldau\, 34123
CATEGORIES:Bürgerinitiativen,Nachhaltigkeit,sdg+ lab,Stammtische,Treffen,Vereine
ATTACH;FMTTYPE=image/png:https://waldau-macht-zukunft.de/wp-content/uploads/2026/04/Stammtisch-Waldau.png
ORGANIZER;CN="Stammtisch Waldau macht Zukunft":MAILTO:bach.koch@googlemail.com
END:VEVENT
END:VCALENDAR