BEGIN:VCALENDAR
VERSION:2.0
PRODID:-//waldau-macht-zukunft.de - ECPv6.15.20//NONSGML v1.0//EN
CALSCALE:GREGORIAN
METHOD:PUBLISH
X-ORIGINAL-URL:https://waldau-macht-zukunft.de
X-WR-CALDESC:Veranstaltungen für waldau-macht-zukunft.de
REFRESH-INTERVAL;VALUE=DURATION:PT1H
X-Robots-Tag:noindex
X-PUBLISHED-TTL:PT1H
BEGIN:VTIMEZONE
TZID:Europe/Berlin
BEGIN:DAYLIGHT
TZOFFSETFROM:+0100
TZOFFSETTO:+0200
TZNAME:CEST
DTSTART:20250330T010000
END:DAYLIGHT
BEGIN:STANDARD
TZOFFSETFROM:+0200
TZOFFSETTO:+0100
TZNAME:CET
DTSTART:20251026T010000
END:STANDARD
BEGIN:DAYLIGHT
TZOFFSETFROM:+0100
TZOFFSETTO:+0200
TZNAME:CEST
DTSTART:20260329T010000
END:DAYLIGHT
BEGIN:STANDARD
TZOFFSETFROM:+0200
TZOFFSETTO:+0100
TZNAME:CET
DTSTART:20261025T010000
END:STANDARD
BEGIN:DAYLIGHT
TZOFFSETFROM:+0100
TZOFFSETTO:+0200
TZNAME:CEST
DTSTART:20270328T010000
END:DAYLIGHT
BEGIN:STANDARD
TZOFFSETFROM:+0200
TZOFFSETTO:+0100
TZNAME:CET
DTSTART:20271031T010000
END:STANDARD
END:VTIMEZONE
BEGIN:VEVENT
DTSTART;TZID=Europe/Berlin:20260505T150000
DTEND;TZID=Europe/Berlin:20260505T180000
DTSTAMP:20260419T154238
CREATED:20260419T091414Z
LAST-MODIFIED:20260419T101444Z
UID:10003605-1777993200-1778004000@waldau-macht-zukunft.de
SUMMARY:Frühlingsfest
DESCRIPTION:  \nDas Stadtteilbüro und der KennenLernLaden  laden ein zum \nFrühlingsfest     \nin der Ladenzeile Waldau/ Nahversorgungszentrum \nam: 05.05.26 \nvon: 15-18 Uhr \nWir freuen uns auf Sie!
URL:https://waldau-macht-zukunft.de/event/fruehlingsfest/
LOCATION:Stadtteilbüro Waldau\, Görlitzer Straße 39j\, Waldau\, 34123
CATEGORIES:Bildungsangebote,Bürgerinitiativen,Feste,Freizeit,Kultur,Lernen,Nachhaltigkeit,Spielaktionen,Treffen,Workshops
ATTACH;FMTTYPE=application/pdf:https://waldau-macht-zukunft.de/wp-content/uploads/2026/04/Plakat_Fruehlingsfest_260418_082947-1-2.pdf
ORGANIZER;CN="Stadtteilb%C3%BCro Waldau":MAILTO:info@forstfeldundwaldau.de
END:VEVENT
END:VCALENDAR