BEGIN:VCALENDAR
VERSION:2.0
PRODID:-//waldau-macht-zukunft.de - ECPv6.15.20//NONSGML v1.0//EN
CALSCALE:GREGORIAN
METHOD:PUBLISH
X-ORIGINAL-URL:https://waldau-macht-zukunft.de
X-WR-CALDESC:Veranstaltungen für waldau-macht-zukunft.de
REFRESH-INTERVAL;VALUE=DURATION:PT1H
X-Robots-Tag:noindex
X-PUBLISHED-TTL:PT1H
BEGIN:VTIMEZONE
TZID:Europe/Berlin
BEGIN:DAYLIGHT
TZOFFSETFROM:+0100
TZOFFSETTO:+0200
TZNAME:CEST
DTSTART:20250330T010000
END:DAYLIGHT
BEGIN:STANDARD
TZOFFSETFROM:+0200
TZOFFSETTO:+0100
TZNAME:CET
DTSTART:20251026T010000
END:STANDARD
BEGIN:DAYLIGHT
TZOFFSETFROM:+0100
TZOFFSETTO:+0200
TZNAME:CEST
DTSTART:20260329T010000
END:DAYLIGHT
BEGIN:STANDARD
TZOFFSETFROM:+0200
TZOFFSETTO:+0100
TZNAME:CET
DTSTART:20261025T010000
END:STANDARD
BEGIN:DAYLIGHT
TZOFFSETFROM:+0100
TZOFFSETTO:+0200
TZNAME:CEST
DTSTART:20270328T010000
END:DAYLIGHT
BEGIN:STANDARD
TZOFFSETFROM:+0200
TZOFFSETTO:+0100
TZNAME:CET
DTSTART:20271031T010000
END:STANDARD
END:VTIMEZONE
BEGIN:VEVENT
DTSTART;TZID=Europe/Berlin:20260413T100000
DTEND;TZID=Europe/Berlin:20260413T110000
DTSTAMP:20260419T143729
CREATED:20260320T080344Z
LAST-MODIFIED:20260320T080727Z
UID:10003203-1776074400-1776078000@waldau-macht-zukunft.de
SUMMARY:Treffpunkt Bewegung
DESCRIPTION:Jeden Montag starten die Menschen vom Stadtteilbüro\, nach einer Aufwärmrunde in den Stadtteil und suchen hier Plätze für weitere Übungen.                     Wir lernen unser Stadtteil immer wieder neu kennen und bleiben so Aktiv! Kommt uns seid dabei!
URL:https://waldau-macht-zukunft.de/event/treffpunkt-bewegung/2026-04-13/
LOCATION:Stadtteilbüro Waldau\, Görlitzer Straße 39j\, Waldau\, 34123
CATEGORIES:Bürgerinitiativen,Freizeit,Kurse,Sportkurse,Treffen
ATTACH;FMTTYPE=image/png:https://waldau-macht-zukunft.de/wp-content/uploads/2026/01/ChatGPT-Image-20.-Jan.-2026-00_16_42.png
END:VEVENT
BEGIN:VEVENT
DTSTART;TZID=Europe/Berlin:20260406T100000
DTEND;TZID=Europe/Berlin:20260406T110000
DTSTAMP:20260419T143729
CREATED:20260320T080344Z
LAST-MODIFIED:20260320T080727Z
UID:10003201-1775469600-1775473200@waldau-macht-zukunft.de
SUMMARY:Treffpunkt Bewegung
DESCRIPTION:Jeden Montag starten die Menschen vom Stadtteilbüro\, nach einer Aufwärmrunde in den Stadtteil und suchen hier Plätze für weitere Übungen.                     Wir lernen unser Stadtteil immer wieder neu kennen und bleiben so Aktiv! Kommt uns seid dabei!
URL:https://waldau-macht-zukunft.de/event/treffpunkt-bewegung/2026-04-06/
LOCATION:Stadtteilbüro Waldau\, Görlitzer Straße 39j\, Waldau\, 34123
CATEGORIES:Bürgerinitiativen,Freizeit,Kurse,Sportkurse,Treffen
ATTACH;FMTTYPE=image/png:https://waldau-macht-zukunft.de/wp-content/uploads/2026/01/ChatGPT-Image-20.-Jan.-2026-00_16_42.png
END:VEVENT
BEGIN:VEVENT
DTSTART;TZID=Europe/Berlin:20260330T100000
DTEND;TZID=Europe/Berlin:20260330T110000
DTSTAMP:20260419T143729
CREATED:20260320T080344Z
LAST-MODIFIED:20260320T080727Z
UID:10003199-1774864800-1774868400@waldau-macht-zukunft.de
SUMMARY:Treffpunkt Bewegung
DESCRIPTION:Jeden Montag starten die Menschen vom Stadtteilbüro\, nach einer Aufwärmrunde in den Stadtteil und suchen hier Plätze für weitere Übungen.                     Wir lernen unser Stadtteil immer wieder neu kennen und bleiben so Aktiv! Kommt uns seid dabei!
URL:https://waldau-macht-zukunft.de/event/treffpunkt-bewegung/2026-03-30/
LOCATION:Stadtteilbüro Waldau\, Görlitzer Straße 39j\, Waldau\, 34123
CATEGORIES:Bürgerinitiativen,Freizeit,Kurse,Sportkurse,Treffen
ATTACH;FMTTYPE=image/png:https://waldau-macht-zukunft.de/wp-content/uploads/2026/01/ChatGPT-Image-20.-Jan.-2026-00_16_42.png
END:VEVENT
END:VCALENDAR