BEGIN:VCALENDAR
VERSION:2.0
PRODID:-//waldau-macht-zukunft.de - ECPv6.15.20//NONSGML v1.0//EN
CALSCALE:GREGORIAN
METHOD:PUBLISH
X-WR-CALNAME:waldau-macht-zukunft.de
X-ORIGINAL-URL:https://waldau-macht-zukunft.de
X-WR-CALDESC:Veranstaltungen für waldau-macht-zukunft.de
REFRESH-INTERVAL;VALUE=DURATION:PT1H
X-Robots-Tag:noindex
X-PUBLISHED-TTL:PT1H
BEGIN:VTIMEZONE
TZID:Europe/Berlin
BEGIN:DAYLIGHT
TZOFFSETFROM:+0100
TZOFFSETTO:+0200
TZNAME:CEST
DTSTART:20250330T010000
END:DAYLIGHT
BEGIN:STANDARD
TZOFFSETFROM:+0200
TZOFFSETTO:+0100
TZNAME:CET
DTSTART:20251026T010000
END:STANDARD
BEGIN:DAYLIGHT
TZOFFSETFROM:+0100
TZOFFSETTO:+0200
TZNAME:CEST
DTSTART:20260329T010000
END:DAYLIGHT
BEGIN:STANDARD
TZOFFSETFROM:+0200
TZOFFSETTO:+0100
TZNAME:CET
DTSTART:20261025T010000
END:STANDARD
BEGIN:DAYLIGHT
TZOFFSETFROM:+0100
TZOFFSETTO:+0200
TZNAME:CEST
DTSTART:20270328T010000
END:DAYLIGHT
BEGIN:STANDARD
TZOFFSETFROM:+0200
TZOFFSETTO:+0100
TZNAME:CET
DTSTART:20271031T010000
END:STANDARD
END:VTIMEZONE
BEGIN:VEVENT
DTSTART;TZID=Europe/Berlin:20260421T170000
DTEND;TZID=Europe/Berlin:20260421T190000
DTSTAMP:20260420T024656
CREATED:20260414T144008Z
LAST-MODIFIED:20260414T144009Z
UID:10002153-1776790800-1776798000@waldau-macht-zukunft.de
SUMMARY:Rehasport Orthopädie auf Verordnung
DESCRIPTION:Gezielte Bewegung für Menschen mit Rücken-\, Gelenk- oder Wirbelsäulenbeschwerden. Durch Übungen zur Verbesserung von Kraft\, Beweglichkeit und Koordination wird die körperliche Belastbarkeit im Alltag gesteigert.\n \nDie Teilnahme erfolgt auf ärztliche Verordnung (Rehabilitationssport) und ist nach Genehmigung durch die Krankenkasse kostenfrei. \nKurszeiten: \nDienstag: 17:00 Uhr und 18:00 Uhr \nDonnerstag: 09:00 Uhr und 10:00 Uhr \n 
URL:https://waldau-macht-zukunft.de/event/rehasport-orthopaedie-auf-verordnung-2/2026-04-21/
LOCATION:BSG Kassel 1951 e. V.\, Waldauer Fußweg 100\, Kassel\, 34123\, Germany
CATEGORIES:Kurse
ATTACH;FMTTYPE=image/webp:https://waldau-macht-zukunft.de/wp-content/uploads/2026/03/Rehasport-Orthopaedie-auf-Verordnung.webp
ORGANIZER;CN="BSG Kassel 1951 e. V.":MAILTO:V.klinger@bsg-kassel.de
END:VEVENT
BEGIN:VEVENT
DTSTART;TZID=Europe/Berlin:20260423T090000
DTEND;TZID=Europe/Berlin:20260423T110000
DTSTAMP:20260420T024656
CREATED:20260414T143821Z
LAST-MODIFIED:20260414T143821Z
UID:10001632-1776934800-1776942000@waldau-macht-zukunft.de
SUMMARY:Rehasport Orthopädie auf Verordnung
DESCRIPTION:Gezielte Bewegung für Menschen mit Rücken-\, Gelenk- oder Wirbelsäulenbeschwerden. Durch Übungen zur Verbesserung von Kraft\, Beweglichkeit und Koordination wird die körperliche Belastbarkeit im Alltag gesteigert.\n \nDie Teilnahme erfolgt auf ärztliche Verordnung (Rehabilitationssport) und ist nach Genehmigung durch die Krankenkasse kostenfrei. \nKurszeiten: \nDienstag: 17:00 Uhr und 18:00 Uhr \nDonnerstag: 09:00 Uhr und 10:00 Uhr \n 
URL:https://waldau-macht-zukunft.de/event/rehasport-auf-verordnung-2/2026-04-23/
LOCATION:BSG Kassel 1951 e. V.\, Waldauer Fußweg 100\, Kassel\, 34123\, Germany
CATEGORIES:Kurse
ATTACH;FMTTYPE=image/webp:https://waldau-macht-zukunft.de/wp-content/uploads/2026/03/Rehasport-Orthopaedie-auf-Verordnung.webp
ORGANIZER;CN="BSG Kassel 1951 e. V.":MAILTO:V.klinger@bsg-kassel.de
END:VEVENT
BEGIN:VEVENT
DTSTART;TZID=Europe/Berlin:20260428T170000
DTEND;TZID=Europe/Berlin:20260428T190000
DTSTAMP:20260420T024656
CREATED:20260414T144008Z
LAST-MODIFIED:20260414T144009Z
UID:10002154-1777395600-1777402800@waldau-macht-zukunft.de
SUMMARY:Rehasport Orthopädie auf Verordnung
DESCRIPTION:Gezielte Bewegung für Menschen mit Rücken-\, Gelenk- oder Wirbelsäulenbeschwerden. Durch Übungen zur Verbesserung von Kraft\, Beweglichkeit und Koordination wird die körperliche Belastbarkeit im Alltag gesteigert.\n \nDie Teilnahme erfolgt auf ärztliche Verordnung (Rehabilitationssport) und ist nach Genehmigung durch die Krankenkasse kostenfrei. \nKurszeiten: \nDienstag: 17:00 Uhr und 18:00 Uhr \nDonnerstag: 09:00 Uhr und 10:00 Uhr \n 
URL:https://waldau-macht-zukunft.de/event/rehasport-orthopaedie-auf-verordnung-2/2026-04-28/
LOCATION:BSG Kassel 1951 e. V.\, Waldauer Fußweg 100\, Kassel\, 34123\, Germany
CATEGORIES:Kurse
ATTACH;FMTTYPE=image/webp:https://waldau-macht-zukunft.de/wp-content/uploads/2026/03/Rehasport-Orthopaedie-auf-Verordnung.webp
ORGANIZER;CN="BSG Kassel 1951 e. V.":MAILTO:V.klinger@bsg-kassel.de
END:VEVENT
BEGIN:VEVENT
DTSTART;TZID=Europe/Berlin:20260430T090000
DTEND;TZID=Europe/Berlin:20260430T110000
DTSTAMP:20260420T024656
CREATED:20260414T143821Z
LAST-MODIFIED:20260414T143821Z
UID:10001633-1777539600-1777546800@waldau-macht-zukunft.de
SUMMARY:Rehasport Orthopädie auf Verordnung
DESCRIPTION:Gezielte Bewegung für Menschen mit Rücken-\, Gelenk- oder Wirbelsäulenbeschwerden. Durch Übungen zur Verbesserung von Kraft\, Beweglichkeit und Koordination wird die körperliche Belastbarkeit im Alltag gesteigert.\n \nDie Teilnahme erfolgt auf ärztliche Verordnung (Rehabilitationssport) und ist nach Genehmigung durch die Krankenkasse kostenfrei. \nKurszeiten: \nDienstag: 17:00 Uhr und 18:00 Uhr \nDonnerstag: 09:00 Uhr und 10:00 Uhr \n 
URL:https://waldau-macht-zukunft.de/event/rehasport-auf-verordnung-2/2026-04-30/
LOCATION:BSG Kassel 1951 e. V.\, Waldauer Fußweg 100\, Kassel\, 34123\, Germany
CATEGORIES:Kurse
ATTACH;FMTTYPE=image/webp:https://waldau-macht-zukunft.de/wp-content/uploads/2026/03/Rehasport-Orthopaedie-auf-Verordnung.webp
ORGANIZER;CN="BSG Kassel 1951 e. V.":MAILTO:V.klinger@bsg-kassel.de
END:VEVENT
END:VCALENDAR