BEGIN:VCALENDAR
VERSION:2.0
PRODID:-//waldau-macht-zukunft.de - ECPv6.15.20//NONSGML v1.0//EN
CALSCALE:GREGORIAN
METHOD:PUBLISH
X-WR-CALNAME:waldau-macht-zukunft.de
X-ORIGINAL-URL:https://waldau-macht-zukunft.de
X-WR-CALDESC:Veranstaltungen für waldau-macht-zukunft.de
REFRESH-INTERVAL;VALUE=DURATION:PT1H
X-Robots-Tag:noindex
X-PUBLISHED-TTL:PT1H
BEGIN:VTIMEZONE
TZID:Europe/Berlin
BEGIN:DAYLIGHT
TZOFFSETFROM:+0100
TZOFFSETTO:+0200
TZNAME:CEST
DTSTART:20250330T010000
END:DAYLIGHT
BEGIN:STANDARD
TZOFFSETFROM:+0200
TZOFFSETTO:+0100
TZNAME:CET
DTSTART:20251026T010000
END:STANDARD
BEGIN:DAYLIGHT
TZOFFSETFROM:+0100
TZOFFSETTO:+0200
TZNAME:CEST
DTSTART:20260329T010000
END:DAYLIGHT
BEGIN:STANDARD
TZOFFSETFROM:+0200
TZOFFSETTO:+0100
TZNAME:CET
DTSTART:20261025T010000
END:STANDARD
BEGIN:DAYLIGHT
TZOFFSETFROM:+0100
TZOFFSETTO:+0200
TZNAME:CEST
DTSTART:20270328T010000
END:DAYLIGHT
BEGIN:STANDARD
TZOFFSETFROM:+0200
TZOFFSETTO:+0100
TZNAME:CET
DTSTART:20271031T010000
END:STANDARD
END:VTIMEZONE
BEGIN:VEVENT
DTSTART;TZID=Europe/Berlin:20260702T090000
DTEND;TZID=Europe/Berlin:20260702T110000
DTSTAMP:20260422T135645
CREATED:20260414T143821Z
LAST-MODIFIED:20260414T143821Z
UID:10001642-1782982800-1782990000@waldau-macht-zukunft.de
SUMMARY:Rehasport Orthopädie auf Verordnung
DESCRIPTION:Gezielte Bewegung für Menschen mit Rücken-\, Gelenk- oder Wirbelsäulenbeschwerden. Durch Übungen zur Verbesserung von Kraft\, Beweglichkeit und Koordination wird die körperliche Belastbarkeit im Alltag gesteigert.\n \nDie Teilnahme erfolgt auf ärztliche Verordnung (Rehabilitationssport) und ist nach Genehmigung durch die Krankenkasse kostenfrei. \nKurszeiten: \nDienstag: 17:00 Uhr und 18:00 Uhr \nDonnerstag: 09:00 Uhr und 10:00 Uhr \n 
URL:https://waldau-macht-zukunft.de/event/rehasport-auf-verordnung-2/2026-07-02/
LOCATION:BSG Kassel 1951 e. V.\, Waldauer Fußweg 100\, Kassel\, 34123\, Germany
CATEGORIES:Kurse
ATTACH;FMTTYPE=image/webp:https://waldau-macht-zukunft.de/wp-content/uploads/2026/03/Rehasport-Orthopaedie-auf-Verordnung.webp
ORGANIZER;CN="BSG Kassel 1951 e. V.":MAILTO:V.klinger@bsg-kassel.de
END:VEVENT
BEGIN:VEVENT
DTSTART;TZID=Europe/Berlin:20260707T170000
DTEND;TZID=Europe/Berlin:20260707T190000
DTSTAMP:20260422T135645
CREATED:20260414T144008Z
LAST-MODIFIED:20260414T144009Z
UID:10002164-1783443600-1783450800@waldau-macht-zukunft.de
SUMMARY:Rehasport Orthopädie auf Verordnung
DESCRIPTION:Gezielte Bewegung für Menschen mit Rücken-\, Gelenk- oder Wirbelsäulenbeschwerden. Durch Übungen zur Verbesserung von Kraft\, Beweglichkeit und Koordination wird die körperliche Belastbarkeit im Alltag gesteigert.\n \nDie Teilnahme erfolgt auf ärztliche Verordnung (Rehabilitationssport) und ist nach Genehmigung durch die Krankenkasse kostenfrei. \nKurszeiten: \nDienstag: 17:00 Uhr und 18:00 Uhr \nDonnerstag: 09:00 Uhr und 10:00 Uhr \n 
URL:https://waldau-macht-zukunft.de/event/rehasport-orthopaedie-auf-verordnung-2/2026-07-07/
LOCATION:BSG Kassel 1951 e. V.\, Waldauer Fußweg 100\, Kassel\, 34123\, Germany
CATEGORIES:Kurse
ATTACH;FMTTYPE=image/webp:https://waldau-macht-zukunft.de/wp-content/uploads/2026/03/Rehasport-Orthopaedie-auf-Verordnung.webp
ORGANIZER;CN="BSG Kassel 1951 e. V.":MAILTO:V.klinger@bsg-kassel.de
END:VEVENT
BEGIN:VEVENT
DTSTART;TZID=Europe/Berlin:20260709T090000
DTEND;TZID=Europe/Berlin:20260709T110000
DTSTAMP:20260422T135645
CREATED:20260414T143821Z
LAST-MODIFIED:20260414T143821Z
UID:10001643-1783587600-1783594800@waldau-macht-zukunft.de
SUMMARY:Rehasport Orthopädie auf Verordnung
DESCRIPTION:Gezielte Bewegung für Menschen mit Rücken-\, Gelenk- oder Wirbelsäulenbeschwerden. Durch Übungen zur Verbesserung von Kraft\, Beweglichkeit und Koordination wird die körperliche Belastbarkeit im Alltag gesteigert.\n \nDie Teilnahme erfolgt auf ärztliche Verordnung (Rehabilitationssport) und ist nach Genehmigung durch die Krankenkasse kostenfrei. \nKurszeiten: \nDienstag: 17:00 Uhr und 18:00 Uhr \nDonnerstag: 09:00 Uhr und 10:00 Uhr \n 
URL:https://waldau-macht-zukunft.de/event/rehasport-auf-verordnung-2/2026-07-09/
LOCATION:BSG Kassel 1951 e. V.\, Waldauer Fußweg 100\, Kassel\, 34123\, Germany
CATEGORIES:Kurse
ATTACH;FMTTYPE=image/webp:https://waldau-macht-zukunft.de/wp-content/uploads/2026/03/Rehasport-Orthopaedie-auf-Verordnung.webp
ORGANIZER;CN="BSG Kassel 1951 e. V.":MAILTO:V.klinger@bsg-kassel.de
END:VEVENT
BEGIN:VEVENT
DTSTART;TZID=Europe/Berlin:20260714T170000
DTEND;TZID=Europe/Berlin:20260714T190000
DTSTAMP:20260422T135645
CREATED:20260414T144008Z
LAST-MODIFIED:20260414T144009Z
UID:10002165-1784048400-1784055600@waldau-macht-zukunft.de
SUMMARY:Rehasport Orthopädie auf Verordnung
DESCRIPTION:Gezielte Bewegung für Menschen mit Rücken-\, Gelenk- oder Wirbelsäulenbeschwerden. Durch Übungen zur Verbesserung von Kraft\, Beweglichkeit und Koordination wird die körperliche Belastbarkeit im Alltag gesteigert.\n \nDie Teilnahme erfolgt auf ärztliche Verordnung (Rehabilitationssport) und ist nach Genehmigung durch die Krankenkasse kostenfrei. \nKurszeiten: \nDienstag: 17:00 Uhr und 18:00 Uhr \nDonnerstag: 09:00 Uhr und 10:00 Uhr \n 
URL:https://waldau-macht-zukunft.de/event/rehasport-orthopaedie-auf-verordnung-2/2026-07-14/
LOCATION:BSG Kassel 1951 e. V.\, Waldauer Fußweg 100\, Kassel\, 34123\, Germany
CATEGORIES:Kurse
ATTACH;FMTTYPE=image/webp:https://waldau-macht-zukunft.de/wp-content/uploads/2026/03/Rehasport-Orthopaedie-auf-Verordnung.webp
ORGANIZER;CN="BSG Kassel 1951 e. V.":MAILTO:V.klinger@bsg-kassel.de
END:VEVENT
BEGIN:VEVENT
DTSTART;TZID=Europe/Berlin:20260716T090000
DTEND;TZID=Europe/Berlin:20260716T110000
DTSTAMP:20260422T135645
CREATED:20260414T143821Z
LAST-MODIFIED:20260414T143821Z
UID:10001644-1784192400-1784199600@waldau-macht-zukunft.de
SUMMARY:Rehasport Orthopädie auf Verordnung
DESCRIPTION:Gezielte Bewegung für Menschen mit Rücken-\, Gelenk- oder Wirbelsäulenbeschwerden. Durch Übungen zur Verbesserung von Kraft\, Beweglichkeit und Koordination wird die körperliche Belastbarkeit im Alltag gesteigert.\n \nDie Teilnahme erfolgt auf ärztliche Verordnung (Rehabilitationssport) und ist nach Genehmigung durch die Krankenkasse kostenfrei. \nKurszeiten: \nDienstag: 17:00 Uhr und 18:00 Uhr \nDonnerstag: 09:00 Uhr und 10:00 Uhr \n 
URL:https://waldau-macht-zukunft.de/event/rehasport-auf-verordnung-2/2026-07-16/
LOCATION:BSG Kassel 1951 e. V.\, Waldauer Fußweg 100\, Kassel\, 34123\, Germany
CATEGORIES:Kurse
ATTACH;FMTTYPE=image/webp:https://waldau-macht-zukunft.de/wp-content/uploads/2026/03/Rehasport-Orthopaedie-auf-Verordnung.webp
ORGANIZER;CN="BSG Kassel 1951 e. V.":MAILTO:V.klinger@bsg-kassel.de
END:VEVENT
BEGIN:VEVENT
DTSTART;TZID=Europe/Berlin:20260721T170000
DTEND;TZID=Europe/Berlin:20260721T190000
DTSTAMP:20260422T135645
CREATED:20260414T144008Z
LAST-MODIFIED:20260414T144009Z
UID:10002166-1784653200-1784660400@waldau-macht-zukunft.de
SUMMARY:Rehasport Orthopädie auf Verordnung
DESCRIPTION:Gezielte Bewegung für Menschen mit Rücken-\, Gelenk- oder Wirbelsäulenbeschwerden. Durch Übungen zur Verbesserung von Kraft\, Beweglichkeit und Koordination wird die körperliche Belastbarkeit im Alltag gesteigert.\n \nDie Teilnahme erfolgt auf ärztliche Verordnung (Rehabilitationssport) und ist nach Genehmigung durch die Krankenkasse kostenfrei. \nKurszeiten: \nDienstag: 17:00 Uhr und 18:00 Uhr \nDonnerstag: 09:00 Uhr und 10:00 Uhr \n 
URL:https://waldau-macht-zukunft.de/event/rehasport-orthopaedie-auf-verordnung-2/2026-07-21/
LOCATION:BSG Kassel 1951 e. V.\, Waldauer Fußweg 100\, Kassel\, 34123\, Germany
CATEGORIES:Kurse
ATTACH;FMTTYPE=image/webp:https://waldau-macht-zukunft.de/wp-content/uploads/2026/03/Rehasport-Orthopaedie-auf-Verordnung.webp
ORGANIZER;CN="BSG Kassel 1951 e. V.":MAILTO:V.klinger@bsg-kassel.de
END:VEVENT
BEGIN:VEVENT
DTSTART;TZID=Europe/Berlin:20260723T090000
DTEND;TZID=Europe/Berlin:20260723T110000
DTSTAMP:20260422T135645
CREATED:20260414T143821Z
LAST-MODIFIED:20260414T143821Z
UID:10001645-1784797200-1784804400@waldau-macht-zukunft.de
SUMMARY:Rehasport Orthopädie auf Verordnung
DESCRIPTION:Gezielte Bewegung für Menschen mit Rücken-\, Gelenk- oder Wirbelsäulenbeschwerden. Durch Übungen zur Verbesserung von Kraft\, Beweglichkeit und Koordination wird die körperliche Belastbarkeit im Alltag gesteigert.\n \nDie Teilnahme erfolgt auf ärztliche Verordnung (Rehabilitationssport) und ist nach Genehmigung durch die Krankenkasse kostenfrei. \nKurszeiten: \nDienstag: 17:00 Uhr und 18:00 Uhr \nDonnerstag: 09:00 Uhr und 10:00 Uhr \n 
URL:https://waldau-macht-zukunft.de/event/rehasport-auf-verordnung-2/2026-07-23/
LOCATION:BSG Kassel 1951 e. V.\, Waldauer Fußweg 100\, Kassel\, 34123\, Germany
CATEGORIES:Kurse
ATTACH;FMTTYPE=image/webp:https://waldau-macht-zukunft.de/wp-content/uploads/2026/03/Rehasport-Orthopaedie-auf-Verordnung.webp
ORGANIZER;CN="BSG Kassel 1951 e. V.":MAILTO:V.klinger@bsg-kassel.de
END:VEVENT
BEGIN:VEVENT
DTSTART;TZID=Europe/Berlin:20260728T170000
DTEND;TZID=Europe/Berlin:20260728T190000
DTSTAMP:20260422T135645
CREATED:20260414T144008Z
LAST-MODIFIED:20260414T144009Z
UID:10002167-1785258000-1785265200@waldau-macht-zukunft.de
SUMMARY:Rehasport Orthopädie auf Verordnung
DESCRIPTION:Gezielte Bewegung für Menschen mit Rücken-\, Gelenk- oder Wirbelsäulenbeschwerden. Durch Übungen zur Verbesserung von Kraft\, Beweglichkeit und Koordination wird die körperliche Belastbarkeit im Alltag gesteigert.\n \nDie Teilnahme erfolgt auf ärztliche Verordnung (Rehabilitationssport) und ist nach Genehmigung durch die Krankenkasse kostenfrei. \nKurszeiten: \nDienstag: 17:00 Uhr und 18:00 Uhr \nDonnerstag: 09:00 Uhr und 10:00 Uhr \n 
URL:https://waldau-macht-zukunft.de/event/rehasport-orthopaedie-auf-verordnung-2/2026-07-28/
LOCATION:BSG Kassel 1951 e. V.\, Waldauer Fußweg 100\, Kassel\, 34123\, Germany
CATEGORIES:Kurse
ATTACH;FMTTYPE=image/webp:https://waldau-macht-zukunft.de/wp-content/uploads/2026/03/Rehasport-Orthopaedie-auf-Verordnung.webp
ORGANIZER;CN="BSG Kassel 1951 e. V.":MAILTO:V.klinger@bsg-kassel.de
END:VEVENT
BEGIN:VEVENT
DTSTART;TZID=Europe/Berlin:20260730T090000
DTEND;TZID=Europe/Berlin:20260730T110000
DTSTAMP:20260422T135645
CREATED:20260414T143821Z
LAST-MODIFIED:20260414T143821Z
UID:10001646-1785402000-1785409200@waldau-macht-zukunft.de
SUMMARY:Rehasport Orthopädie auf Verordnung
DESCRIPTION:Gezielte Bewegung für Menschen mit Rücken-\, Gelenk- oder Wirbelsäulenbeschwerden. Durch Übungen zur Verbesserung von Kraft\, Beweglichkeit und Koordination wird die körperliche Belastbarkeit im Alltag gesteigert.\n \nDie Teilnahme erfolgt auf ärztliche Verordnung (Rehabilitationssport) und ist nach Genehmigung durch die Krankenkasse kostenfrei. \nKurszeiten: \nDienstag: 17:00 Uhr und 18:00 Uhr \nDonnerstag: 09:00 Uhr und 10:00 Uhr \n 
URL:https://waldau-macht-zukunft.de/event/rehasport-auf-verordnung-2/2026-07-30/
LOCATION:BSG Kassel 1951 e. V.\, Waldauer Fußweg 100\, Kassel\, 34123\, Germany
CATEGORIES:Kurse
ATTACH;FMTTYPE=image/webp:https://waldau-macht-zukunft.de/wp-content/uploads/2026/03/Rehasport-Orthopaedie-auf-Verordnung.webp
ORGANIZER;CN="BSG Kassel 1951 e. V.":MAILTO:V.klinger@bsg-kassel.de
END:VEVENT
END:VCALENDAR