BEGIN:VCALENDAR
VERSION:2.0
PRODID:-//waldau-macht-zukunft.de - ECPv6.15.20//NONSGML v1.0//EN
CALSCALE:GREGORIAN
METHOD:PUBLISH
X-WR-CALNAME:waldau-macht-zukunft.de
X-ORIGINAL-URL:https://waldau-macht-zukunft.de
X-WR-CALDESC:Veranstaltungen für waldau-macht-zukunft.de
REFRESH-INTERVAL;VALUE=DURATION:PT1H
X-Robots-Tag:noindex
X-PUBLISHED-TTL:PT1H
BEGIN:VTIMEZONE
TZID:Europe/Berlin
BEGIN:DAYLIGHT
TZOFFSETFROM:+0100
TZOFFSETTO:+0200
TZNAME:CEST
DTSTART:20250330T010000
END:DAYLIGHT
BEGIN:STANDARD
TZOFFSETFROM:+0200
TZOFFSETTO:+0100
TZNAME:CET
DTSTART:20251026T010000
END:STANDARD
BEGIN:DAYLIGHT
TZOFFSETFROM:+0100
TZOFFSETTO:+0200
TZNAME:CEST
DTSTART:20260329T010000
END:DAYLIGHT
BEGIN:STANDARD
TZOFFSETFROM:+0200
TZOFFSETTO:+0100
TZNAME:CET
DTSTART:20261025T010000
END:STANDARD
BEGIN:DAYLIGHT
TZOFFSETFROM:+0100
TZOFFSETTO:+0200
TZNAME:CEST
DTSTART:20270328T010000
END:DAYLIGHT
BEGIN:STANDARD
TZOFFSETFROM:+0200
TZOFFSETTO:+0100
TZNAME:CET
DTSTART:20271031T010000
END:STANDARD
END:VTIMEZONE
BEGIN:VEVENT
DTSTART;TZID=Europe/Berlin:20260519T170000
DTEND;TZID=Europe/Berlin:20260519T190000
DTSTAMP:20260420T023152
CREATED:20260414T144008Z
LAST-MODIFIED:20260414T144009Z
UID:10002157-1779210000-1779217200@waldau-macht-zukunft.de
SUMMARY:Rehasport Orthopädie auf Verordnung
DESCRIPTION:Gezielte Bewegung für Menschen mit Rücken-\, Gelenk- oder Wirbelsäulenbeschwerden. Durch Übungen zur Verbesserung von Kraft\, Beweglichkeit und Koordination wird die körperliche Belastbarkeit im Alltag gesteigert.\n \nDie Teilnahme erfolgt auf ärztliche Verordnung (Rehabilitationssport) und ist nach Genehmigung durch die Krankenkasse kostenfrei. \nKurszeiten: \nDienstag: 17:00 Uhr und 18:00 Uhr \nDonnerstag: 09:00 Uhr und 10:00 Uhr \n 
URL:https://waldau-macht-zukunft.de/event/rehasport-orthopaedie-auf-verordnung-2/2026-05-19/
LOCATION:BSG Kassel 1951 e. V.\, Waldauer Fußweg 100\, Kassel\, 34123\, Germany
CATEGORIES:Kurse
ATTACH;FMTTYPE=image/webp:https://waldau-macht-zukunft.de/wp-content/uploads/2026/03/Rehasport-Orthopaedie-auf-Verordnung.webp
ORGANIZER;CN="BSG Kassel 1951 e. V.":MAILTO:V.klinger@bsg-kassel.de
END:VEVENT
BEGIN:VEVENT
DTSTART;TZID=Europe/Berlin:20260519T190000
DTEND;TZID=Europe/Berlin:20260519T200000
DTSTAMP:20260420T023152
CREATED:20260312T182106Z
LAST-MODIFIED:20260312T182220Z
UID:10002940-1779217200-1779220800@waldau-macht-zukunft.de
SUMMARY:Pilates – Kraft aus der Körpermitte
DESCRIPTION:Pilates ist ein ganzheitliches Training zur Kräftigung der Tiefenmuskulatur\, insbesondere von Bauch\, Rücken und Beckenboden. Durch kontrollierte\, fließende Bewegungen werden Haltung\, Stabilität und Beweglichkeit verbessert. Gleichzeitig fördert das Training die Körperwahrnehmung und sorgt für mehr Balance und Entspannung im Alltag. \nIm Kurs stehen saubere Bewegungsausführung\, bewusste Atmung und eine stabile Körpermitte im Mittelpunkt. Die Übungen werden langsam und kontrolliert ausgeführt und können an unterschiedliche Fitnesslevel angepasst werden. Dadurch ist Pilates sowohl für Einsteiger als auch für Fortgeschrittene geeignet. \nRegelmäßiges Pilates-Training kann Rückenschmerzen vorbeugen\, die Haltung verbessern und die Muskulatur effektiv stärken – ohne den Körper zu überlasten. \nKurszeit: \nDienstag: 19:15 Uhr \n 
URL:https://waldau-macht-zukunft.de/event/pilates-kraft-aus-der-koerpermitte/2026-05-19/
LOCATION:BSG Kassel 1951 e. V.\, Waldauer Fußweg 100\, Kassel\, 34123\, Germany
CATEGORIES:Kurse
ATTACH;FMTTYPE=image/png:https://waldau-macht-zukunft.de/wp-content/uploads/2026/03/82C45453-BE14-401F-9FEC-5F3BB1C0D598.png
ORGANIZER;CN="BSG Kassel 1951 e. V.":MAILTO:V.klinger@bsg-kassel.de
END:VEVENT
END:VCALENDAR