BEGIN:VCALENDAR
VERSION:2.0
PRODID:-//waldau-macht-zukunft.de - ECPv6.15.20//NONSGML v1.0//EN
CALSCALE:GREGORIAN
METHOD:PUBLISH
X-WR-CALNAME:waldau-macht-zukunft.de
X-ORIGINAL-URL:https://waldau-macht-zukunft.de
X-WR-CALDESC:Veranstaltungen für waldau-macht-zukunft.de
REFRESH-INTERVAL;VALUE=DURATION:PT1H
X-Robots-Tag:noindex
X-PUBLISHED-TTL:PT1H
BEGIN:VTIMEZONE
TZID:Europe/Berlin
BEGIN:DAYLIGHT
TZOFFSETFROM:+0100
TZOFFSETTO:+0200
TZNAME:CEST
DTSTART:20250330T010000
END:DAYLIGHT
BEGIN:STANDARD
TZOFFSETFROM:+0200
TZOFFSETTO:+0100
TZNAME:CET
DTSTART:20251026T010000
END:STANDARD
BEGIN:DAYLIGHT
TZOFFSETFROM:+0100
TZOFFSETTO:+0200
TZNAME:CEST
DTSTART:20260329T010000
END:DAYLIGHT
BEGIN:STANDARD
TZOFFSETFROM:+0200
TZOFFSETTO:+0100
TZNAME:CET
DTSTART:20261025T010000
END:STANDARD
BEGIN:DAYLIGHT
TZOFFSETFROM:+0100
TZOFFSETTO:+0200
TZNAME:CEST
DTSTART:20270328T010000
END:DAYLIGHT
BEGIN:STANDARD
TZOFFSETFROM:+0200
TZOFFSETTO:+0100
TZNAME:CET
DTSTART:20271031T010000
END:STANDARD
END:VTIMEZONE
BEGIN:VEVENT
DTSTART;VALUE=DATE:20260426
DTEND;VALUE=DATE:20260427
DTSTAMP:20260422T220417
CREATED:20260205T143110Z
LAST-MODIFIED:20260205T143110Z
UID:10001614-1777161600-1777247999@waldau-macht-zukunft.de
SUMMARY:Tag der Erde in Kassel
DESCRIPTION:Am Sonntag\, 26. April 2026\, wird Kassels Innenstadt zum Treffpunkt für alle\, die sich für Umwelt\, Nachhaltigkeit und ein gutes Zusammenleben interessieren. Von 11 bis 18 Uhr verwandeln sich der Steinweg und der Friedrichsplatz in ein großes autofreies Straßenfest mit Information\, Kultur und Begegnung. \nRund 150 Organisationen\, Initiativen und Gewerbetreibende präsentieren soziale\, ökologische\, politische und kulturelle Themen. Ein abwechslungsreiches Kulturprogramm\, kulinarische Angebote sowie Mitmachaktionen für die ganze Familie machen den Tag der Erde zu einem Fest für alle Generationen. \n  \nDer Kasseler Tag der Erde wird seit 1990 gefeiert und gilt als größte Veranstaltung dieser Art in Deutschland. Organisiert wird er vom Umwelthaus Kassel e. V. mit Unterstützung ehrenamtlicher Helf:innen sowie des städtischen Umwelt- und Gartenamtes.
URL:https://waldau-macht-zukunft.de/event/tag-der-erde-in-kassel/
LOCATION:Bundesstaat wählen:
CATEGORIES:Feste,Grünes Waldau,Nachhaltigkeit
ATTACH;FMTTYPE=image/png:https://waldau-macht-zukunft.de/wp-content/uploads/2026/02/Tag-der-Erde-2026-in-Kassel.png
END:VEVENT
END:VCALENDAR