BEGIN:VCALENDAR
VERSION:2.0
PRODID:-//waldau-macht-zukunft.de - ECPv6.15.20//NONSGML v1.0//EN
CALSCALE:GREGORIAN
METHOD:PUBLISH
X-ORIGINAL-URL:https://waldau-macht-zukunft.de
X-WR-CALDESC:Veranstaltungen für waldau-macht-zukunft.de
REFRESH-INTERVAL;VALUE=DURATION:PT1H
X-Robots-Tag:noindex
X-PUBLISHED-TTL:PT1H
BEGIN:VTIMEZONE
TZID:Europe/Berlin
BEGIN:DAYLIGHT
TZOFFSETFROM:+0100
TZOFFSETTO:+0200
TZNAME:CEST
DTSTART:20250330T010000
END:DAYLIGHT
BEGIN:STANDARD
TZOFFSETFROM:+0200
TZOFFSETTO:+0100
TZNAME:CET
DTSTART:20251026T010000
END:STANDARD
BEGIN:DAYLIGHT
TZOFFSETFROM:+0100
TZOFFSETTO:+0200
TZNAME:CEST
DTSTART:20260329T010000
END:DAYLIGHT
BEGIN:STANDARD
TZOFFSETFROM:+0200
TZOFFSETTO:+0100
TZNAME:CET
DTSTART:20261025T010000
END:STANDARD
BEGIN:DAYLIGHT
TZOFFSETFROM:+0100
TZOFFSETTO:+0200
TZNAME:CEST
DTSTART:20270328T010000
END:DAYLIGHT
BEGIN:STANDARD
TZOFFSETFROM:+0200
TZOFFSETTO:+0100
TZNAME:CET
DTSTART:20271031T010000
END:STANDARD
END:VTIMEZONE
BEGIN:VEVENT
DTSTART;TZID=Europe/Berlin:20260326T090000
DTEND;TZID=Europe/Berlin:20260326T110000
DTSTAMP:20260420T040334
CREATED:20260312T181115Z
LAST-MODIFIED:20260312T181347Z
UID:10001628-1774515600-1774522800@waldau-macht-zukunft.de
SUMMARY:Rehasport Orthopädie auf Verordnung
DESCRIPTION:Gezielte Bewegung für Menschen mit Rücken-\, Gelenk- oder Wirbelsäulenbeschwerden. Durch Übungen zur Verbesserung von Kraft\, Beweglichkeit und Koordination wird die körperliche Belastbarkeit im Alltag gesteigert.\n \nDie Teilnahme erfolgt auf ärztliche Verordnung (Rehabilitationssport) und ist nach Genehmigung durch die Krankenkasse kostenfrei. \nKurszeiten: \nDienstag: 17:00 Uhr und 18:00 Uhr \nDonnerstag: 09:00 Uhr und 10:00 Uhr \n 
URL:https://waldau-macht-zukunft.de/event/rehasport-auf-verordnung/2026-03-26/
LOCATION:BSG Kassel 1951 e. V.\, Waldauer Fußweg 100\, Kassel\, 34123\, Germany
CATEGORIES:Kurse
ATTACH;FMTTYPE=image/jpeg:https://waldau-macht-zukunft.de/wp-content/uploads/2026/03/2947ca6f-2ada-473b-be4d-46ac88b19d8d.jpeg
ORGANIZER;CN="BSG Kassel 1951 e. V.":MAILTO:V.klinger@bsg-kassel.de
END:VEVENT
BEGIN:VEVENT
DTSTART;TZID=Europe/Berlin:20260326T153000
DTEND;TZID=Europe/Berlin:20260326T180000
DTSTAMP:20260420T040334
CREATED:20260320T083119Z
LAST-MODIFIED:20260325T090734Z
UID:10003308-1774539000-1774548000@waldau-macht-zukunft.de
SUMMARY:Feierabend Gärtnern
DESCRIPTION:Workshop: Strauchschnitt im Waldgarten mit Emil Wiedmann \nTreffpunkt am Container auf der Waldgartenfläche.
URL:https://waldau-macht-zukunft.de/event/feierabend-gaertnern-2/
LOCATION:Urbane Waldgarten\, Urbaner Waldgarten Wahlebach\, Kassel\, 34123
CATEGORIES:Grünes Waldau,Nachhaltigkeit,Uni-Projekte,Waldgarten,Workshops
ATTACH;FMTTYPE=image/jpeg:https://waldau-macht-zukunft.de/wp-content/uploads/2026/01/Ehrenamt-Waldau.jpeg
END:VEVENT
BEGIN:VEVENT
DTSTART;TZID=Europe/Berlin:20260326T153000
DTEND;TZID=Europe/Berlin:20260326T180000
DTSTAMP:20260420T040334
CREATED:20260325T084807Z
LAST-MODIFIED:20260325T091050Z
UID:10001620-1774539000-1774548000@waldau-macht-zukunft.de
SUMMARY:Feierabend Gärtnern
DESCRIPTION:Workshop: Strauchschnitt im Waldgarten mit Emil Wiedmann \nTreffpunkt am Container auf der Waldgartenfläche.
URL:https://waldau-macht-zukunft.de/event/feierabend-gaertnern-2-2/2026-03-26/
LOCATION:Urbane Waldgarten\, Urbaner Waldgarten Wahlebach\, Kassel\, 34123
CATEGORIES:Grünes Waldau,Nachhaltigkeit,Uni-Projekte,Waldgarten,Workshops
ATTACH;FMTTYPE=image/jpeg:https://waldau-macht-zukunft.de/wp-content/uploads/2026/01/Ehrenamt-Waldau.jpeg
END:VEVENT
END:VCALENDAR