BEGIN:VCALENDAR
VERSION:2.0
PRODID:-//waldau-macht-zukunft.de - ECPv6.15.20//NONSGML v1.0//EN
CALSCALE:GREGORIAN
METHOD:PUBLISH
X-ORIGINAL-URL:https://waldau-macht-zukunft.de
X-WR-CALDESC:Veranstaltungen für waldau-macht-zukunft.de
REFRESH-INTERVAL;VALUE=DURATION:PT1H
X-Robots-Tag:noindex
X-PUBLISHED-TTL:PT1H
BEGIN:VTIMEZONE
TZID:Europe/Berlin
BEGIN:DAYLIGHT
TZOFFSETFROM:+0100
TZOFFSETTO:+0200
TZNAME:CEST
DTSTART:20250330T010000
END:DAYLIGHT
BEGIN:STANDARD
TZOFFSETFROM:+0200
TZOFFSETTO:+0100
TZNAME:CET
DTSTART:20251026T010000
END:STANDARD
BEGIN:DAYLIGHT
TZOFFSETFROM:+0100
TZOFFSETTO:+0200
TZNAME:CEST
DTSTART:20260329T010000
END:DAYLIGHT
BEGIN:STANDARD
TZOFFSETFROM:+0200
TZOFFSETTO:+0100
TZNAME:CET
DTSTART:20261025T010000
END:STANDARD
BEGIN:DAYLIGHT
TZOFFSETFROM:+0100
TZOFFSETTO:+0200
TZNAME:CEST
DTSTART:20270328T010000
END:DAYLIGHT
BEGIN:STANDARD
TZOFFSETFROM:+0200
TZOFFSETTO:+0100
TZNAME:CET
DTSTART:20271031T010000
END:STANDARD
END:VTIMEZONE
BEGIN:VEVENT
DTSTART;TZID=Europe/Berlin:20260219T153000
DTEND;TZID=Europe/Berlin:20260219T180000
DTSTAMP:20260420T042132
CREATED:20260318T170529Z
LAST-MODIFIED:20260320T081538Z
UID:10001615-1771515000-1771524000@waldau-macht-zukunft.de
SUMMARY:Feierabend Gärtnern
DESCRIPTION:
URL:https://waldau-macht-zukunft.de/event/feierabend-gaertnern/2026-02-19/
LOCATION:Urbane Waldgarten\, Urbaner Waldgarten Wahlebach\, Kassel\, 34123
CATEGORIES:Grünes Waldau,Nachhaltigkeit,Uni-Projekte,Waldgarten,Workshops
ATTACH;FMTTYPE=image/jpeg:https://waldau-macht-zukunft.de/wp-content/uploads/2026/01/Ehrenamt-Waldau.jpeg
END:VEVENT
END:VCALENDAR