BEGIN:VCALENDAR
VERSION:2.0
PRODID:-//waldau-macht-zukunft.de - ECPv6.15.20//NONSGML v1.0//EN
CALSCALE:GREGORIAN
METHOD:PUBLISH
X-ORIGINAL-URL:https://waldau-macht-zukunft.de
X-WR-CALDESC:Veranstaltungen für waldau-macht-zukunft.de
REFRESH-INTERVAL;VALUE=DURATION:PT1H
X-Robots-Tag:noindex
X-PUBLISHED-TTL:PT1H
BEGIN:VTIMEZONE
TZID:Europe/Berlin
BEGIN:DAYLIGHT
TZOFFSETFROM:+0100
TZOFFSETTO:+0200
TZNAME:CEST
DTSTART:20250330T010000
END:DAYLIGHT
BEGIN:STANDARD
TZOFFSETFROM:+0200
TZOFFSETTO:+0100
TZNAME:CET
DTSTART:20251026T010000
END:STANDARD
BEGIN:DAYLIGHT
TZOFFSETFROM:+0100
TZOFFSETTO:+0200
TZNAME:CEST
DTSTART:20260329T010000
END:DAYLIGHT
BEGIN:STANDARD
TZOFFSETFROM:+0200
TZOFFSETTO:+0100
TZNAME:CET
DTSTART:20261025T010000
END:STANDARD
BEGIN:DAYLIGHT
TZOFFSETFROM:+0100
TZOFFSETTO:+0200
TZNAME:CEST
DTSTART:20270328T010000
END:DAYLIGHT
BEGIN:STANDARD
TZOFFSETFROM:+0200
TZOFFSETTO:+0100
TZNAME:CET
DTSTART:20271031T010000
END:STANDARD
END:VTIMEZONE
BEGIN:VEVENT
DTSTART;TZID=Europe/Berlin:20260125T140000
DTEND;TZID=Europe/Berlin:20260125T170000
DTSTAMP:20260420T134316
CREATED:20260109T150905Z
LAST-MODIFIED:20260119T122037Z
UID:10000011-1769349600-1769360400@waldau-macht-zukunft.de
SUMMARY:Workshop Dr. Jennifer Schulz – Waldgarten: Definition & Verträge
DESCRIPTION:In diesem Workshop klären wir gemeinsam\, was mit „Waldgarten“ eigentlich genau gemeint ist: Welche Merkmale gehören dazu\, wo liegen die Grenzen zum klassischen Gartenbau – und welche Definition hilft uns in der Praxis wirklich weiter? Im zweiten Teil geht es um Verträge: Welche Vereinbarungen sind sinnvoll (z. B. Nutzung\, Pflege\, Zuständigkeiten)\, welche Punkte sollten sauber geregelt sein und worauf man achten sollte\, damit es später keine Missverständnisse gibt.
URL:https://waldau-macht-zukunft.de/event/workshop-dr-jennifer-schulz-waldgarten-definition-vertraege/
LOCATION:Umwelt- und Gartenamt\, Bosestraße 15\, Kassel\, Hessen\, 34121\, Germany
CATEGORIES:Grünes Waldau,Nachhaltigkeit,Treffen,Waldgarten
ATTACH;FMTTYPE=image/png:https://waldau-macht-zukunft.de/wp-content/uploads/2026/01/ChatGPT-Image-9.-Jan.-2026-16_07_38.png
END:VEVENT
BEGIN:VEVENT
DTSTART;TZID=Europe/Berlin:20260125T140000
DTEND;TZID=Europe/Berlin:20260125T170000
DTSTAMP:20260420T134316
CREATED:20260119T134346Z
LAST-MODIFIED:20260119T134346Z
UID:10000012-1769349600-1769360400@waldau-macht-zukunft.de
SUMMARY:Sample - kannst hier umändern
DESCRIPTION:In diesem Workshop klären wir gemeinsam\, was mit „Waldgarten“ eigentlich genau gemeint ist: Welche Merkmale gehören dazu\, wo liegen die Grenzen zum klassischen Gartenbau – und welche Definition hilft uns in der Praxis wirklich weiter? Im zweiten Teil geht es um Verträge: Welche Vereinbarungen sind sinnvoll (z. B. Nutzung\, Pflege\, Zuständigkeiten)\, welche Punkte sollten sauber geregelt sein und worauf man achten sollte\, damit es später keine Missverständnisse gibt.
URL:https://waldau-macht-zukunft.de/event/sample-kannst-hier-umaendern/
LOCATION:Umwelt- und Gartenamt\, Bosestraße 15\, Kassel\, Hessen\, 34121\, Germany
CATEGORIES:Grünes Waldau,Nachhaltigkeit,Treffen,Waldgarten
ATTACH;FMTTYPE=image/jpeg:https://waldau-macht-zukunft.de/wp-content/uploads/2026/01/Master-Bild-Veranstaltung.jpg
END:VEVENT
END:VCALENDAR